BEGIN:VCALENDAR
VERSION:2.0
PRODID:-//hacksw/handcal//NONSGML v1.0//EN
BEGIN:VEVENT
UID:c6e60782bdb04c1134da93c009afd5ec
DTSTAMP:20260420T202553Z

DTSTART:20160221T200000
DTEND:20160221T200000
SUMMARY:ΝΑΓΚΙΜΠ ΜΑΧΦΟΥΖ (1911-2006): ΑΝΑΤΟΜΟΣ ΤΗΣ ΑΝΘΡΩΠΙΝΗΣ ΨΥΧΗΣ
DESCRIPTION:ΝΑΓΚΙΜΠ ΜΑΧΦΟΥΖ – ΣΤΟ ΓΥΡΙΣΜΑΤΟΥ ΑΙΩΝΑ
Ιμπραΐμ Ελ Μπατού, Φράνκα Μουλουντί	(1999, έγχρωμη, 50') 
Θα ακολουθήσει συζήτηση με εισηγητές τους Πέρσα Κουμούτση  συγγραφέα, μεταφράστρια και μελετήτρια του έργου του Ναγκίμπ Μαχφούζ, Αιγυπτιώτισσα) και Βασίλη Βαφέα (σκηνοθέτη, Αιγυπτιώτη).
 
Θα χαιρετίσει ο Χουσεΐν Μαράι Μαχμούντ (Μορφωτικός Ακόλουθος της Πρεσβείας της Αιγύπτου, Καθηγητής στη Σχολή Αρχαιολογίας του Πανεπιστημίου Καΐρου).
 
Σε συνεργασία με το Μορφωτικό Κέντρο της Πρεσβείας της Αιγύπτου.

LOCATION:Ηλιούπολη, Ελλάδα
END:VEVENT

END:VCALENDAR
