BEGIN:VCALENDAR
VERSION:2.0
PRODID:-//hacksw/handcal//NONSGML v1.0//EN
BEGIN:VEVENT
UID:61e111b6f7eea3b56e73d769bed682e4
DTSTAMP:20260420T180926Z

DTSTART:20160223T172100
DTEND:20160223T172100
SUMMARY:ΟΠΣΑ: Δέκατος Κύκλος Ομιλιών  Συζητήσεων - Η ΕΛΛΗΝΙΚΗ ΠΑΡΑΔΟΣΗ 
DESCRIPTION:Π Ρ Ο Σ Κ Λ Η Σ Η

      Έχουμε την τιμή να σας προσκαλέσουμε την Τρίτη   23/02/2016 ώρα 19.00, στην       εκδήλωση   του  Δέκατου  Κύκλου Ομιλιών  Συζητήσεων του Ομίλου μας , με θεματική ενότητα:

    «Η ΕΛΛΗΝΙΚΗ ΠΑΡΑΔΟΣΗ , ΩΣ ΑΣΦΑΛΗΣ ΠΑΡΑΚΑΤΑΘΗΚΗ ΚΑΙ ΦΑΡΟΣ ΓΙΑ ΤΟ ΜΕΛΛΟΝ ΚΑΙ ΓΙΑ ΤΗ ΔΙΑΡΚΗ ΔΗΜΙΟΥΡΓΙΑ ΠΟΛΙΤΙΣΜΟΥ. Ο ΡΟΛΟΣ ΤΗΣ ΑΥΤΟΔΙΟΙΚΗΣΗΣ»

        Θα παρουσιαστούν τρεις εισηγήσεις από τους κάτωθι:
1.	Χαράλαμπος Κυραϊλίδης, Καθηγητής –Ιστορικός, Πρόεδρος Ένωσης Ιδιωτικών Εκπαιδευτηρίων Ελλάδος
2.	Δήμητρα Ιωάννου,  Συγγραφέας - Λογοτέχνης
3.	Βάσω Σωτηρίου-Κουτουλάκου, Διευθύντρια Παιδείας & Διά Βίου Μάθησης , Δήμου Πειραιά
                 
        Η εκδήλωση  θα πραγματοποιηθεί στην αίθουσα εκδηλώσεων του Δημαρχιακού Μεγάρου  Ηλιούπολης (οδός  Σ. Βενιζέλου & Πρωτόπαππα)

       Συντονιστής: Ο   κ.  Θεόδωρος  Γεωργάκης,  Δικηγόρος   Παρ΄ Αρείω           
                                Πάγω, π. Δήμαρχος  Ηλιούπολης  και  Πρόεδρος  του    ΟΠΣΑ     
      Παρουσιάστρια: Η κ. Άννα Παπαϊακώβου Δικηγόρος  και Ιδρυτικό Μέλος του  ΟΠΣΑ

       Ειδική συμμετοχή του Εξωραϊστικού Πολιτιστικού  Συλλόγου «ΑΓ.ΜΗΝΑΣ»            Κερατσινίου, με παραδοσιακούς χορούς από όλη την Ελληνική Επικράτεια.

Η παρουσία σας θα  μας δώσει ιδιαίτερη χαρά.                                   ΓΙΑ ΤΟΝ ΟΜΙΛΟ
Η είσοδος είναι ελεύθερη                                                                    Ο ΠΡΟΕΔΡΟΣ
                                                                                            ΘΕΟΔΩΡΟΣ ΓΕΩΡΓΑΚΗΣ

LOCATION:Λεωφ. Ελ. Βενιζέλου, Ηλιούπολη 163 41, Ελλάδα
END:VEVENT

END:VCALENDAR
