BEGIN:VCALENDAR
VERSION:2.0
PRODID:-//hacksw/handcal//NONSGML v1.0//EN
BEGIN:VEVENT
UID:db3fb993c1d62ea35196cf7d5952931e
DTSTAMP:20260421T021047Z

DTSTART:20160215T193000
DTEND:20160215T193000
SUMMARY:ΣΥΛΛΟΓΟΣ ΚΡΗΤΩΝ: Φιλολογική Βραδιά της Δευτέρας
DESCRIPTION: ΠΡΟΣΚΛΗΣΗ

     Στα πλαίσια της« Φιλολογικής Βραδιάς της Δευτέρας» , συνεχίζονται οι παρουσιάσεις τηνΔευτέρα 15/2/2016 και ώρα έναρξης της εκδήλωσης 19:30  στην αίθουσα του Συλλόγου μας , με κεντρικό ομιλητή τον Πολιτισμολόγο-Συγγραφέα και Χοροδιδάσκαλο Κον  Ιωάννη Τσουχλαράκη . Θα προσεγγίσει  με την εισήγηση του έναν από τους Παραδοσιακούς Χορούς της Κρήτης και συγκεκριμένα: 
                                   «Πεντοζάλι…. Ένας χορός, μια ιστορία  »

Διοργάνωση: ΣΥΛΛΟΓΟΣ ΚΡΗΤΩΝ ΗΛΙΟΥΠΟΛΗΣ
LOCATION:Αριάδνης 10, Ηλιούπολη 163 45, Ελλάδα
END:VEVENT

END:VCALENDAR
