BEGIN:VCALENDAR
VERSION:2.0
PRODID:-//hacksw/handcal//NONSGML v1.0//EN
BEGIN:VEVENT
UID:e311354ca12f6244bab8f46806a8c800
DTSTAMP:20260421T004415Z

DTSTART:20160214T000000
DTEND:20160214T000000
SUMMARY:ΠΕΡΙΠΟΛΟ: ΠΕΖΟΠΟΡΙΑ ΣΤΟ  ΟΡΟΣ  ΑΙΓΑΛΕΩ
DESCRIPTION:ΚΥΡΙΑΚΗ 14 ΦΕΒΡΟΥΑΡΙΟΥ

ΠΕΖΟΠΟΡΙΑ ΣΤΟ  ΟΡΟΣ  ΑΙΓΑΛΕΩ 14/2/2016

ΕΠΙΣΚΕΨΗ ΣΤΟΝ ΔΙΟΜΗΔΕΙΟ ΒΟΤΑΝΙΚΟ ΚΗΠΟ

 

 Το Αιγάλεω όρος, ξεκινά από την Πάρνηθα και καταλήγει στον Σαρωνικό και στον κόλπο Ελευσίνας. Αποτελεί το Δυτικό όριο του Λεκανοπεδίου Αττικής. Το όρος φιλοξενεί μέσα του την λίμνη Ρειτών (Κουμουνδούρου), τον βοτανικό κήπο  Διομήδους, το σπήλαιο του Πάνα, το σπήλαιο Σχιστού, το σπήλαιο της Αφαίας καθώς και πολλές ακόμη σπηλιές και σπήλαια. Η χλωρίδα και πανίδα στο όρος είναι πολύ πλούσια και σημαντική.

10:00 θα ξεκινήσει η πεζοπορία από την  είσοδο του Βοτανικού κήπου (Ιερά Οδός)

  Ω.Π 3 ΒΔ Α

Θα δούμε (εντός του Κήπου): Τόπο εκτέλεσης Ελλήνων Πατριωτών (1944), ασβεστοκάμινα, αρχαία λατομεία αρουραίου λίθου, το πρώτο κάμπινγκ στην Ελλάδα, .. Έπειτα θα πεζοπορήσουμε στο όρος Αιγάλεω.

Την ξενάγηση θα κάνει  το μέλος του ελληνικού Δικτύου <

Δηλώσεις συμμετοχής: Μαίρη Νταγιάντα  2105224924 -6957818001.
LOCATION:'Ορος Αιγάλεω, Χαϊδάρι 124 61, Ελλάδα
END:VEVENT

END:VCALENDAR
