BEGIN:VCALENDAR
VERSION:2.0
PRODID:-//hacksw/handcal//NONSGML v1.0//EN
BEGIN:VEVENT
UID:059289b8eebd22ef96b3c9752eecddad
DTSTAMP:20260420T180411Z

DTSTART:20160207T183000
DTEND:20160207T183000
SUMMARY:ΚΟΠΗ ΠΙΤΑΣ ΕΝΑΚ
DESCRIPTION:ΠΡΟΣΚΛΗΣΗ-ΚΑΛΕΣΜΑ
Την Κυριακή 7 Φεβρουαρίου 2016 και ώρα 18.30 μ.μ. στο Δημοτικό Αναψυκτήριο «Δ. Κιντής», κόβουμε την Πρωτοχρονιάτικη πίτα μας, 
ανταλλάσουμε ευχές, ανανεώνουμε την ελπίδα στη πόλη. 

Σ Υ Ν Ε Χ ΙΖ Ο Υ ΜΕ  Μ Α Ζ Ι   
      για  Μ Ι Α   Π Ο Λ Η  ΦΙΛΙΚΗ και ΦΙΛΟΞΕΝΗ, ΣΥΓΧΡΟΝΗ 
 και  ΠΡΟΣΒΑΣΙΜΗ, ΑΝΘΡΩΠΙΝΗ και  ΔΙΑΚΡΙΤΗ
Σας περιμένουμε
Ο επικεφαλής
Δημήτρης Πανταζόπουλος

LOCATION:
END:VEVENT

END:VCALENDAR
