BEGIN:VCALENDAR
VERSION:2.0
PRODID:-//hacksw/handcal//NONSGML v1.0//EN
BEGIN:VEVENT
UID:db0bf07cc98db12999601d4444409f71
DTSTAMP:20260421T021046Z

DTSTART:20160204T203500
DTEND:20160204T203500
SUMMARY:Πολιτιστικός Σύλλογος ΑΓΓΕΛΟΣ ΣΙΚΕΛΙΑΝΟΣ: ΑΦΙΕΡΩΜΑ ΣΤΗΝ ΞΕΝΙΤΙΑ
DESCRIPTION:ΠΡΟΣΚΛΗΣΗ
LOCATION:Λεωφ. Ελ. Βενιζέλου, Ηλιούπολη 163 41, Ελλάδα
END:VEVENT

END:VCALENDAR
