BEGIN:VCALENDAR
VERSION:2.0
PRODID:-//hacksw/handcal//NONSGML v1.0//EN
BEGIN:VEVENT
UID:0e2efc461c8263f25e8810993ac9fb31
DTSTAMP:20260419T180052Z

DTSTART:20160131T110000
DTEND:20160131T140000
SUMMARY:ΕΚΔΗΛΩΣΗ ΑΦΙΕΡΩΜΕΝΗ ΣΤΟΝ ΑΕΙΜΝΗΣΤΟ ΚΩΝΣΤΑΝΤΙΝΟ ΛΥΤΡΑ (ΤΕΩΣ ΠΡΟΕΔΡΟ ΤΟΥ ΔΗΜΟΤΙΚΟΥ ΣΥΜΒΟΥΛΙΟΥ)
DESCRIPTION:Αγαπητοί συνδημότες,
Ο Δήμαρχος Ηλιούπολης, σας προσκαλεί να τιμήσετε με την παρουσία σας την εκδήλωση - αφιέρωμα στη μνήμη του εκλιπόντος εκλεκτού συνδημότη μας Κωνσταντίνου Λύτρα, τέως Προέδρου του Δημοτικού Συμβουλίου Ηλιούπολης. Η εκδήλωση θα γίνει την Κυριακή 31 Ιανουαρίου 2016 και ώρα 11.00 π.μ., στην αίθουσα εκδηλώσεων του Μουσείου Εθνικής Αντίστασης.

ΠΡΟΓΡΑΜΜΑ ΕΚΔΗΛΩΣΗΣ
- Χαιρετισμός του Δημάρχου κ. Βασίλη Βαλασόπουλου.
- Σύντομη αναφορά στη ζωή και το έργο του αείμνηστου Κωνσταντίνου Λύτρα, από τον Πρόεδρο του Δ.Σ του Συνδέσμου Ιδιοκτητών Ελληνικών Ιδιωτικών Εκπαιδευτηρίων κ. Χαράλαμπο Κυραϊλίδη, με ταυτόχρονη προβολή φωτογραφικού υλικού από τη ζωή του εκλιπόντος.
- Ιατρική ομιλία από την κ. Μαρία Παγώνη, Διευθύντρια Αιματολογικής Κλινικής Νοσοκομείου «Ευαγγελισμός», εκπρόσωπο της αιματολογικής εταιρείας με θέμα «Αναγκαιότητα εμπλουτισμού της Ελληνικής Τράπεζας εθελοντών δοτών μυελού των οστών».
- Εκδήλωση ενδιαφέροντος και καταγραφή ευγενώς προσφερομένων να εγγραφούν στον κατάλογο δοτών μυελού των οστών.
- Ανακοίνωση της ημερομηνίας που θα πραγματοποιηθεί η 51η Εθελοντική Αιμοδοσία του Δήμου Ηλιούπολης και που θα είναι αφιερωμένη στη μνήμη του Κωνσταντίνου Λύτρα, όπου θα γίνει και καταγραφή εθελοντών δοτών αιμοπεταλίων.
- Μουσική συνοδεία από το Δημοτικό Ωδείο Ηλιούπολης.
LOCATION:Λεωφ. Ελ. Βενιζέλου και Λεωφ. Μαρίνου Αντύπα, Ηλιούπολη 163 41, Ελλάδα
END:VEVENT

END:VCALENDAR
