BEGIN:VCALENDAR
VERSION:2.0
PRODID:-//hacksw/handcal//NONSGML v1.0//EN
BEGIN:VEVENT
UID:506398abaa230b9a6633d5b3046e78c4
DTSTAMP:20260420T180827Z

DTSTART:20160127T183000
DTEND:20160127T183000
SUMMARY:ΠΡΟΣΤΑΣΙΑ ΠΡΩΤΗΣ ΚΑΤΟΙΚΙΑΣ ΠΛΕΙΣΤΗΡΙΑΣΜΟΙ ΚΟΚΚΙΝΑ ΣΤΕΓΑΣΤΙΚΑ ΔΑΝΕΙΑ 
DESCRIPTION:Ο ΣΥΡΙΖΑ Ηλιούπολης

Σας προσκαλεί στην εκδήλωση-συζήτηση με θέμα:

«ΠΡΟΣΤΑΣΙΑ ΠΡΩΤΗΣ ΚΑΤΟΙΚΙΑΣ
ΠΛΕΙΣΤΗΡΙΑΣΜΟΙ
ΚΟΚΚΙΝΑ ΣΤΕΓΑΣΤΙΚΑ ΔΑΝΕΙΑ »

Ομιλήτρια: Ξανθή Παπαδοπούλου
Δικηγόρος
Μέλος της Κεντρικής Επιτροπής του ΣΥΡΙΖΑ


ΤΕΤΑΡΤΗ    27 Ιανουαρίου 2016 
6:30 μ.μ.
στο ΜΟΥΣΕΙΟ ΕΘΝΙΚΗΣ ΑΝΤΙΣΤΑΣΗΣ
(Μαρίνου Αντύπα 134 και Σοφοκλή Βενιζέλου 100)

LOCATION:Λεωφ. Μαρίνου Αντύπα και Λεωφ. Σοφοκλή Βενιζέλου, Ηλιούπολη 163 42, Ελλάδα
END:VEVENT

END:VCALENDAR
