BEGIN:VCALENDAR
VERSION:2.0
PRODID:-//hacksw/handcal//NONSGML v1.0//EN
BEGIN:VEVENT
UID:b53b21ea6ba0526d6aca9f2ac6e7b970
DTSTAMP:20260420T203021Z

DTSTART:20160124T100000
DTEND:20160124T123000
SUMMARY:ΚΙΝΗΜΑΤΟΓΡΑΦΙΚΗ ΛΕΣΧΗ ΗΛΙΟΥΠΟΛΗΣ "ΗΘΟΠΟΙΟΙ:ΗΜΕΡΟΛΟΓΙΟ ΣΠΟΥΔΗΣ"
DESCRIPTION:Η Κινηματογραφική Λέσχη Ηλιούπολης σας προσκαλεί

 

 την ΚΥΡΙΑΚΗ  24/01/2016 

 

στην εκδήλωσή της Η ΕΜΠΕΙΡΙΑ ΤΗΣ ΕΚΠΑΙΔΕΥΣΗΣ ΤΟΥ ΗΘΟΠΟΙΟΥ   

ΗΘΟΠΟΙΟΙ: ΗΜΕΡΟΛΟΓΙΟ ΣΠΟΥΔΗΣ

του Δημήτρη Κουτσιαμπασάκου (ΕΛΛΑΔΑ, 2014, έγχρωμη, 61΄)

 

Θα ακολουθήσει συζήτηση με εισηγητές τους Δημήτρη Κουτσιαμπασάκο (σκηνοθέτη της ταινίας), Θόδωρο Γράμψα (ηθοποιό, σκηνοθέτη, Διευθυντή της Δραματικής Σχολής της Εταιρείας Θεάτρου Πράξη Επτά) και Κώστα Μπάρα (ηθοποιό).

 

* Βραβείο Κοινού στο Φεστιβάλ Ντοκιμαντέρ Θεσσαλονίκης

* Τιμητική Διάκριση Ταινίας Ντοκιμαντέρ Μεγάλου Μήκους στο Φεστιβάλ Ελληνικού Ντοκιμαντέρ-Docfest Χαλκίδας

* Ειδικό Βραβείο στο Διεθνές Φεστιβάλ Ντοκιμαντέρ Ιεράπετρας (2015)

ΚΥΡΙΑΚΗ 24 Ιανουαρίου 2016 ΣΤΙΣ 8:00 μ.μ.

ΣΤΟ ΜΟΥΣΕΙΟ ΕΘΝΙΚΗΣ ΑΝΤΙΣΤΑΣΗΣ

(Μαρ. Αντύπα 134 και Σοφ. Βενιζέλου 100, Ηλιούπολη,

Τηλ.: 2109941199, 2109914732, 6945405825, E-mail: info@klh.gr,

Ιστοσελίδα: www.klh.gr)
LOCATION:
END:VEVENT

END:VCALENDAR
