BEGIN:VCALENDAR
VERSION:2.0
PRODID:-//hacksw/handcal//NONSGML v1.0//EN
BEGIN:VEVENT
UID:5adae1f1528c927a02509d96f5030452
DTSTAMP:20260421T004416Z

DTSTART:20160119T180000
DTEND:20160119T180000
SUMMARY:Σύλλογος Λευκαδίων: κοπή της Πρωτοχρονιάτικης πίτας
DESCRIPTION:ΣΥΛΛΟΓΟΣ ΛΕΥΚΑΔΙΩΝ ΗΛΙΟΥΠΟΛΗΣ 
ΚΑΙ ΓΥΡΩΝ ΔΗΜΩΝ « Η ΦΑΝΕΡΩΜΕΝΗ»
ΕΘΝΑΡΧΟΥ ΜΑΚΑΡΙΟΥ – ΑΘΗΝΟΔΩΡΟΥ
& ΙΩΝΟΣ  Κ.ΗΛΙΟΥΠΟΛΗ ΤΚ16341
ΤΗΛ ΕΠΙΚ.6944256103

Το Διοικητικό Συμβούλιο του Συλλόγου Λευκαδίων Ηλιούπολης και γύρων Δήμων                 « Η ΦΑΝΕΡΩΜΕΝΗ» καλεί τις Λευκαδίτισσες, του Λευκαδίτες και τους φίλους του νησιού μας , στην κοπή της Πρωτοχρονιάτικης πίτας, που θα γίνει στις 24 Ιανουαρίου 2016, ημέρα Κυριακή και ώρα 6:00 μ.μ. στα γραφεία του Συλλόγου.   
Μετά τις ευχές για τη νέα χρονιά, θα προσφερθεί η παραδοσιακή Λευκαδίτικη λαδόπιτα.
Σας περιμένουμε!

Το Διοικητικό Συμβούλιο


Ο Πρόεδρος 							Η  Γεν. Γραμματέας 
				
Ευάγγελος Γεωργάκης                                                                          Βικτωρία   Τούση 

LOCATION:Εθνάρχου Μακαρίου, Ηλιούπολη 163 41, Ελλάδα
END:VEVENT

END:VCALENDAR
