BEGIN:VCALENDAR
VERSION:2.0
PRODID:-//hacksw/handcal//NONSGML v1.0//EN
BEGIN:VEVENT
UID:3e3aee58dac3bdac9d08e7bb4660a44a
DTSTAMP:20260419T145502Z

DTSTART:20160123T200000
DTEND:20160123T200000
SUMMARY:Κοπή πίτας του IlioupolisOnline
DESCRIPTION:Πρόσκληση

Το Σάββατο 23 Ιανουαρίου στις 8:00 μμ. 

σας περιμένουμε να κόψουμε την πίτα της κοινότητας του IlioupolisOnline 
και να περάσουμε όμορφα  με κρασάκι, μεζεδάκια και τραγούδια της παρέας.

Η εκδήλωση θα γίνει στο χώρο της κοινότητας Σκουφά 6 – Πλατεία Κανάρια

Ελεύθερη είσοδος

LOCATION:Σκουφά 6, Ηλιούπολη 163 46, Ελλάδα
END:VEVENT

END:VCALENDAR
