BEGIN:VCALENDAR
VERSION:2.0
PRODID:-//hacksw/handcal//NONSGML v1.0//EN
BEGIN:VEVENT
UID:861f0898ff656f22b86709428fe21050
DTSTAMP:20260421T021918Z

DTSTART:20160115T203000
DTEND:20160115T203000
SUMMARY:Εκδήλωση με τον Δημήτρη Οικονόμου
DESCRIPTION:Το βιβλιοπωλείο Απρόβλεπτο και οι εκδόσεις Ίκαρος
σας προσκαλούν στην παρουσίαση του νέου βιβλίου του Δημήτρη Οικονόμου "Οι εγκλωβισμένοι"
την Παρασκευή 15 Ιανουαρίου 2016 στις 8:30 μ.μ.


Με φόντο τη ρημαγμένη Αθήνα, δυο μοναχικοί άνθρωποι, εγκλωβισμένοι στη σιωπή και στις απώλειες μιας ζωής που δεν έζησαν, γνωρίζονται τυχαία.

Την ίδια ώρα, ένας έφηβος μετανάστης παλεύει για τα όνειρά του, ένας ανθοπώλης θάβει λουλούδια, ένα φωτοτυπικό μηχάνημα συνομιλεί με το αφεντικό του, και ένας σκύλος προκαλεί με τα νυχτοπερπατήματά του.

Η ματαίωση και ένας κατά παραγγελία θάνατος μεταλλάσσονται σε πρόκληση για μια αργοπορημένη ενηλικίωση και για μια δεύτερη ευκαιρία.

Μια βαθιά ανθρώπινη ιστορία, ένας ύμνος στη ζωή.

Βιβλιοπωλείο Απρόβλεπτο, Ρήγα Φεραίου 25, Ηλιούπολη, τηλ. 2109940110, e-mail: aprovleptobooks@yahoo.gr
LOCATION:Ρήγα Φεραίου 25, Ηλιούπολη 163 43, Ελλάδα
END:VEVENT

END:VCALENDAR
