BEGIN:VCALENDAR
VERSION:2.0
PRODID:-//hacksw/handcal//NONSGML v1.0//EN
BEGIN:VEVENT
UID:3fd127a112fe9f1ae42e43a30e3f40a6
DTSTAMP:20260419T145314Z

DTSTART:20160131T000000
DTEND:20160131T000000
SUMMARY:ΠΕΡΙ.ΠΟΛ.Ο- ΚΟΠΗ ΠΙΤΑΣ - ΑΜΦΙΚΛΕΙΑ  Ν.ΦΘΙΩΤΙΔΑΣ
DESCRIPTION:ΠΕΡΙΒΑΛΛΟΝΤΙΚΟΣ ΠΟΛΙΤΙΣΤΙΚΟΣ  ΟΜΙΛΟΣ (ΠΕΡ.ΠΟΛ.Ο) ΑΤΤΙΚΗΣ
Τοσίτσα 32 , 16346 Ηλιούπολη,Τηλ.:2105224924 -6957818001
 info@peripolo.gr    f/bπερι.πολ.ο αττικής website http://www.peripolo.gr/
ΚΥΡΙΑΚΗ 31 ΙΑΝΟΥΑΡΙΟΥ
ΚΟΠΗ ΠΙΤΑΣ-ΑΜΦΙΚΛΕΙΑ  Ν.ΦΘΙΩΤΙΔΑΣ
Αναχώρηση 7 π.μ απο το Δημαρχείο της Ηλιούπολης με κατεύθυνση την Αμφίκλεια η οποία βρίσκεται στους πρόποδες του όρους Παρνασσού και μπροστά της απλώνεται η κοιλάδα του ποταμού Κηφισού.
Στις 10 π.μ περίπου θα πεζοπορήσουμε από την Αμφίκλεια που βρίσκεται σε υψόμετρο 400μ στην αρχή από μονοπάτι μέσα από το ρέμα του Κεραμιδιού και στη συνέχεια σε πλαγιά με έλατα μέχρι το βραχομονάστηρο της Αγίας Ιερουσαλήμ  (900μ.). Το εκκλησάκι είναι χτισμένο μέσα σε σπηλιά από Φραγκισκανούς Ιππότες με εξαιρετική θέα στις κατάφυτες πλαγιές του Παρνασσού και το φαράγγι του Κεραμιδιού. Κατάβαση αρχικά στο ρέμα και επιστροφή στην Αμφίκλεια από άλλο μονοπάτι. Ω.Π:.4,Υ.Δ:500,Β.Δ:1
Όσοι δεν θα περπατήσουν θα επισκεφθούν την πάνω γειτονιά της πόλης όπου ανάμεσα στα καλντερίμια και τους καταπράσινους κήπους βρίσκονται τα περισσότερα από τα παλιά διώροφα δαδιώτικα σπίτια με τα μικρά μπαλκόνια, τις περίτεχνες βαριές σιδεριές και τις μεγάλες ξύλινες αυλόθυρες. Στην ίδια γειτονιά θα συναντήσουν  την παραδοσιακή πέτρινη δίκρουνη βρύση της Χορευταριάς. Εκεί κοντά θα βρούν  τη γραφική πάνω πλατεία (πλατεία Παρνασσού) και από τα ψηλότερα σημεία της Αμφίκλειας θα απολαύσουν τη θέα απέναντι στο όρος Καλλίδρομο.
Στην συνέχεια στην κάτω πλατεία θα επισκεφθούν το Μουσείο Άρτου μοναδικό στο είδος του σε όλη την Ελλάδα και ένα από τα 5 αντίστοιχα που υπάρχουν σε όλη την Ευρώπη. Ο επισκέπτης θα δει (εκτός από τα δεκάδες διαφορετικά ψωμιά) τις φωτογραφίες, τις αναπαραστατικές εικόνες και το υλικό από τον αγροτικό βίο, θα μάθει για την πορεία της καλλιέργειας και της επεξεργασίας του σιταριού, θα γνωρίσει τα έθιμα που συνοδεύουν το ψωμί και θα μυηθεί στη διατροφική και συμβολική του αξία. Στον ίδιο χώρο συστεγάζεται και το Μουσείο Επαγγελμάτων, το οποίο φιλοδοξεί να αναπαραστήσει παραδοσιακά επαγγέλματα που τείνουν να εκλείψουν.  Το μεσημέρι θα φάμε σε παραδοσιακή ταβέρνα και θα κόψουμε την πρωτοχρονιάτικη πίτα .Θα επιστρέψουμε στην Αθήνα κατά τις 9μ.μ
Δηλώσεις συμμετοχής: Μαίρη Νταγιάντα  2105224924 -6957818001
Αρχηγός εξόρμησης Παπαγεωργίου Γιώργος 6932215512
Κόστος 18 - 20 ευρώ .
LOCATION:
END:VEVENT

END:VCALENDAR
