BEGIN:VCALENDAR
VERSION:2.0
PRODID:-//hacksw/handcal//NONSGML v1.0//EN
BEGIN:VEVENT
UID:be29981d442165e8a882525e20044aa4
DTSTAMP:20260420T180316Z

DTSTART:20160117T110000
DTEND:20160117T110000
SUMMARY:Κοπή πίτας Πολιτιστικού Συλλόγου Αγ. Κωνσταντίνου
DESCRIPTION:Π ρ ο σ κ λ η σ η
 Με μεγάλη χαρά προσκαλούμε τα Μέλη και τους Φίλους μας στην καθιερωμένη κοπή της Πρωτοχρονιάτικης πίτας του Συλλόγου μας που θα πραγματοποιηθεί την Κυριακή 17 Γενάρη και ώρα 11 το πρωί στο  αναψυκτήριο του Δήμου, «ΔΗΜΗΤΡΗΣ ΚΙΝΤΗΣ». 
				                       ΤΟ Δ.Σ.

ΠΟΛΙΤΙΣΤΙΚΟΣ ΣΥΛΛΟΓΟΣ 
ΑΓΙΟΥ ΚΩΝΣΤΑΝΤΙΝΟΥ «ΑΓΓΕΛΟΣ ΣΙΚΕΛΙΑΝΟΣ
        ΑΓΗΣΙΛΑΟΥ 9 – Τ.Κ.16345 ΗΛΙΟΥΠΟΛΗ
                             ΤΗΛ. 2109732660
                    http//sullogos.pblogs.gr
        mail : sillogos_ag_k@pathfinder.gr
                   sillogos_ag_k@yahoo.gr


LOCATION:Γαρδίκη και Σμόλικα, Ηλιούπολη 163 45, Ελλάδα
END:VEVENT

END:VCALENDAR
