BEGIN:VCALENDAR
VERSION:2.0
PRODID:-//hacksw/handcal//NONSGML v1.0//EN
BEGIN:VEVENT
UID:c576932d757479346a8825bf05dd4f94
DTSTAMP:20260420T180312Z

DTSTART:20160109T190000
DTEND:20160109T190000
SUMMARY:Κοπή πίτας Συλλόγου Κρητών
DESCRIPTION:Ο Συλλόγος Κρητών Ηλιούπολης σας προσκαλεί στην κοπή της Πρωτοχρονιάτικης Πίτας που θα γίνει στα γραφεία του Συλλόγου , το Σάββατο 9 /1 /2016 και ώρα 19.00. 



Καλή χρονιά!!!
 
Σύλλογος Κρητών Ηλιούπολης "Η ΚΡΗΤΗ"

Αριάδνης 10. 16345 Ηλιούπολη
210 9752447
Email: syllogoskritonilioupolis@yahoo.gr
LOCATION:Αριάδνης 10, Ηλιούπολη 163 45, Ελλάδα
END:VEVENT

END:VCALENDAR
