BEGIN:VCALENDAR
VERSION:2.0
PRODID:-//hacksw/handcal//NONSGML v1.0//EN
BEGIN:VEVENT
UID:24596851da22ec04cb0557b7ea112591
DTSTAMP:20260421T021426Z

DTSTART:20151212T183000
DTEND:20151212T183000
SUMMARY:Ο κύκλος με την κιμωλία
DESCRIPTION:Μια διασκευη -προσαρμογη σε παιδικο θεατρο του αριστουργηματος του Μπ.Μπρεχτ
LOCATION:
END:VEVENT

END:VCALENDAR
