BEGIN:VCALENDAR
VERSION:2.0
PRODID:-//hacksw/handcal//NONSGML v1.0//EN
BEGIN:VEVENT
UID:a9b5b0a865e831f88f91580935480c95
DTSTAMP:20260420T180951Z

DTSTART:20151204T190000
DTEND:20151204T190000
SUMMARY:ΙΜΠΕΡΙΑΛΙΣΤΙΚΟΙ ΠΟΛΕΜΟΙ ΚΑΙ ΠΡΟΣΦΥΓΙΚΟ
DESCRIPTION:Ο Σύλλογος Γυναικών και η Επιτροπή Ειρήνης Ηλιούπολης την Παρασκευή 4 Δεκέμβρη στις 7:00μμ, στο Μουσείο Εθνικής Αντίστασης Ηλιούπολης θα πραγματοποιησουν εκδήλωση με θέμα: "ΙΜΠΕΡΙΑΛΙΣΤΙΚΟΙ ΠΟΛΕΜΟΙ ΚΑΙ ΠΡΟΣΦΥΓΙΚΟ"
Μετά το τέλος της ομιλίας θα γίνει προβολή της ταινίας "Αρμαντίλο" του Γιάνους Μεντζ Πεντερσεν

LOCATION:Λεωφ. Μαρίνου Αντύπα 142, Ηλιούπολη 163 41, Ελλάδα
END:VEVENT

END:VCALENDAR
