BEGIN:VCALENDAR
VERSION:2.0
PRODID:-//hacksw/handcal//NONSGML v1.0//EN
BEGIN:VEVENT
UID:3382483a2c7a3ad58c1873742ef19ed2
DTSTAMP:20260421T031739Z

DTSTART:20151129T233000
DTEND:20151129T233000
SUMMARY:Παιδική εκδήλωση - Για παιδιά από 3 ετών
DESCRIPTION:Τα Άτακτα Καρότα έρχονται από το μακρινό Κουκουναρόδασος και σας προσκαλούν στο βιβλιοπωλείο Απρόβλεπτο, την Κυριακή 29 Νοεμβρίου στις 11:30 το πρωί για να περάσετε καροτοαπίθανα στην παρουσίαση του βιβλίου τους "Λίγη ησυχία, παρακαλώ!".

Ο Μάρκος ο λαγός και η παρέα του σας περιμένουν να χορέψετε, να παίξετε, να ζωγραφίσετε και να... καροτάρετε μαζί με το πιο τριχωτό ροκ συγκρότημα!
LOCATION:
END:VEVENT

END:VCALENDAR
