BEGIN:VCALENDAR
VERSION:2.0
PRODID:-//hacksw/handcal//NONSGML v1.0//EN
BEGIN:VEVENT
UID:8094740b583508694b13cccb400a342b
DTSTAMP:20260421T021508Z

DTSTART:20151121T210000
DTEND:20151122T210000
SUMMARY:θεατρική παράσταση; ΣΤΟΝ ΑΛΛΟ ΚΟΣΜΟ ΠΩΣ ΘΑ ΠΑΣ
DESCRIPTION:Μπορεί σε μια κηδεία να βάλεις τα γέλια? Στην κηδεία της θείας που θα "τελεσθεί" στο θέατρο του Δημαρχείου Ηλιούπολης (Σοφ.Βενιζέλου 114 & Κουντουριώτου) όλα μπορεί να συμβούν. Κωμικοτραγικές καταστάσεις στο γραφείο τελετών που το διευθύνει ένας MAITRE DES CEREMONIES που περισσότερο μοιάζει με εναν παλαιομοδίτη JAMES BOND. Αλλωστε το όνομα του γραφείου τελετών τα λέει όλα TOO FAST TO THE FUNERAL- Η ΓΡΗΓΟΡΗ ΤΑΦΗ.
Εννέα ανηψιές, μια εκνευριστική βοηθός του μαιτρ, δύο ...φερετροκουβαλητές και ένα ολοζώντανο πτώμα συνθέτουν μια μαύρη κωμωδία που σε στέλνει στον άλλο κόσμο.... 

ΠΡΩΤΑΓΩΝΙΣΤΟΥΝ 
ΙΛΟΝΑ ΑΔΑΜ, ΕΛΕΝΑ ΜΑΝΘΟΠΟΥΛΟΥ, ΣΟΦΙΑ ΤΣΟΛΚΑ, ΜΑΡΙΛΕΝΑ ΤΟΥΡΝΑΡΗ, ΖΩΗ ΓΕΩΡΓΙΟΥ,
ΕΛΕΝΑ ΜΟΥΡΕΛΑΤΟΥ, ΓΙΩΡΓΟΣ ΧΑΤΖΟΠΟΥΛΟΣ, ΕΦΗ ΧΑΤΖΟΠΟΥΛΟΥ, ΜΑΡΙΝΑ ΣΑΜΑΡΑ,
 ΔΗΜΗΤΡΑ ΓΚΕΛΕΡΗ, ΒΙΚΤΩΡΙΑ ΑΔΑΜ, ΧΑΡΑ ΓΙΩΤΟΠΟΥΛΟΥ,
και οι  ΔΙΟΝΥΣΗΣ ΜΑΡΚΟΠΟΥΛΟΣ, ΣΤΕΛΙΟΣ ΒΑΡΟΤΣΑΚΗΣ 
ΣΚΗΝΟΘΕΣΙΑ ΒΑΓΓΕΛΗΣ ΒΑΡΟΤΣΑΚΗΣ

ΒΟΗΘΟΣ ΣΚΗΝΟΘΕΤΗ ΔΗΜΗΤΡΑ ΓΚΕΛΕΡΗ
ΣΚΗΝΙΚΑ-ΠΡΟΓΡΑΜΜΑ ΘΟΔΩΡΗΣ ΡΑΧΙΩΤΗΣ
ΦΩΤΟΓΡΑΦΙΕΣ-ΑΦΙΣΣΑ  ΒΙΚΤΩΡΙΑ ΑΔΑΜ
ΕΠΙΜΕΛΕΙΑ ΣΕΝΑΡΙΟΥ-ΔΙΑΣΚΕΥΗ(*) ΒΑΓΓΕΛΗΣ ΒΑΡΟΤΣΑΚΗΣ, ΧΑΡΑ ΓΙΩΤΟΠΟΥΛΟΥ,ΔΗΜΗΤΡΑ ΓΚΕΛΕΡΗ,         
                                                                ΜΑΡΙΝΑ ΣΑΜΑΡΑ
ΜΟΥΣΙΚΗ ΕΠΙΜΕΛΕΙΑ ΔΗΜΗΤΡΑ ΓΚΕΛΕΡΗ
ΚΟΥΣΤΟΥΜΙΑ  ΘΕΑΤΡΙΚΗ ΟΜΑΔΑ ΑΝΩ ΠΟΤΑΜΩΝ
ΦΡΟΝΤΙΣΤΗΡΙΟ ΜΑΡΙΝΑ ΣΑΜΑΡΑ
ΗΧΟΛΗΨΙΑ ΚΟΝΣΟΛΑ ΔΗΜΗΤΡΗΣ ΚΥΠΡΙΩΤΑΚΗΣ
ΜΑΚΙΓΙΑΖ  ΕΠΑΛ ΗΛΙΟΥΠΟΛΗΣ-ΤΜΗΜΑ ΑΙΣΘΗΤΙΚΗΣ
ΥΠΟΒΟΛΕΙΟ  ΒΑΓΓΕΛΙΩ ΠΑΡΑΣΚΕΥΑ - ΝΑΤΑΛΙΑ ΦΙΛΙΠΠΑΤΟΥ.
(*βασισμένο στο έργου του Π.Μάτεσι "Η Τελετή")
ΠΑΡΑΣΤΑΣΕΙΣ  21, 22, 28 & 29 ΝΟΕΜΒΡΙΟΥ 2015  ΩΡΑ:21.00
 EΙΣΟΔΟΣ ΕΛΕΥΘΕΡΗ 
.....  στις 22/11 η είσοδος για την παράσταση θα είναι με τρόφιμα για την στήριξη του ΔΙΚΤΥΟΥ ΑΛΛΗΛΕΓΓΥΗΣ ΗΛΙΟΥ-ΠΟΛΙΣ 

       ΓΙΑ ΤΗΝ 
ΘΕΑΤΡΙΚΗ ΟΜΑΔΑ
ΑΝΩ ΠΟΤΑΜΩΝ

Βαγγέλης Βαροτσάκης
LOCATION:Λεωφ. Σοφοκλή Βενιζέλου και Κουντουριώτου, Ηλιούπολη 163 42, Ελλάδα
END:VEVENT

END:VCALENDAR
