BEGIN:VCALENDAR
VERSION:2.0
PRODID:-//hacksw/handcal//NONSGML v1.0//EN
BEGIN:VEVENT
UID:1697cfe08042502d4aa698ef1bf9c8f6
DTSTAMP:20260421T021918Z

DTSTART:20151118T200000
DTEND:20151118T200000
SUMMARY:Παρουσίαση ποιητικής συλλογής
DESCRIPTION:Το βιβλιοπωλείο Απρόβλεπτο και οι εκδόσεις Γραφομηχανή σας προσκαλούν στην ποιητική συλλογή Ανακόλουθο βλέμμα  της Κατερίνας Μαρινάκη 
την ΤΕΤΑΡΤΗ 18 ΝΟΕΜΒΡΙΟΥ 2015 στις 8:00 μ.μ.
Τη συλλογή θα την παρουσιάσουν η φιλόλογος Λίτσα Μπούκα και η συγγραφέας, διδάκτωρ Κοινωνιολογίας Κυριακή Καμαρινού.

Πρόκειται για την πρώτη παρουσίαση της συγγραφέα, με είκοσι οχτώ ποιήματα-μινιατούρες. Ο λόγος της, λιτός και διακριτός, εικονοποιεί το Εγώ, νοηματοδοτεί τον κόσμο. 
Το εσωτερικό τοπίο στοιχειοθετούν οι στίχοι, ενώ ο αναγνώστης καλείται να κινηθεί ανάμεσά τους στοχαστικά.     


LOCATION:Ρήγα Φεραίου 25, Ηλιούπολη 163 43, Ελλάδα
END:VEVENT

END:VCALENDAR
