BEGIN:VCALENDAR
VERSION:2.0
PRODID:-//hacksw/handcal//NONSGML v1.0//EN
BEGIN:VEVENT
UID:56c4bff035bf6416b7a25c5d01934f22
DTSTAMP:20260420T180315Z

DTSTART:20151112T183000
DTEND:20151112T183000
SUMMARY:Οι Συλλογικοί φορείς της πόλης μας αντιστέκονται στην κρίση και συζητάνε για κοινές δράσεις
DESCRIPTION:Την Πέμπτη 12/11/2015 και ώρα 6,30 μ.μ στην αίθουσα εκδηλώσεων του Μουσείου Εθνικής Αντίστασης της Ηλιούπολης, η Π.Ο.Α.Ε.Α, ανοίγει τον δεύτερο  κύκλο συζητήσεων και συζητάει με τους Συλλογικούς φορείς της πόλης μας για συνεργασίες και κοινές δράσεις στον πολιτισμό.
LOCATION:Λεωφ. Μαρίνου Αντύπα 115, Ηλιούπολη 163 42, Ελλάδα
END:VEVENT

END:VCALENDAR
