BEGIN:VCALENDAR
VERSION:2.0
PRODID:-//hacksw/handcal//NONSGML v1.0//EN
BEGIN:VEVENT
UID:0e9978ef41f874ddea94e4895f4dd556
DTSTAMP:20260419T145311Z

DTSTART:20151030T220900
DTEND:20151115T001500
SUMMARY:ΕΩΣ 15 ΝΟΕ - 1Η ΓΙΟΡΤΗ ΛΟΥΛΟΥΔΙΩΝ ΔΗΜΟΥ ΗΛΙΟΥΠΟΛΗΣ
DESCRIPTION:Παραγωγοί φυτωριούχοι συμμετέχουν στην πρώτη γιορτή λουλουδιών που οργανώνεται από το Δήμο Ηλιούπολης και θα πραγματοποιηθεί στην Κεντρική Πλατεία της πόλης μας από την Παρασκευή 30 Οκτωβρίου έως 15 Νοεμβρίου 2015.

Εκατοντάδες είδη φυτών, λουλουδιών και δενδρυλλίων για κήπους και βεράντες, γλάστρες και προϊόντα περιποίησης φυτών, θα εκτίθενται στις καλύτερες τιμές τις αγοράς, αφού όλα θα είναι κατευθείαν από τους παραγωγούς.

Προσκαλούμε όλους τους λάτρεις των λουλουδιών να την επισκεφθούν και να καθιερώσουν τη γιορτή μας ως το ετήσιο πάρτι των χρωμάτων και των αρωμάτων της πόλης μας.

Ώρες λειτουργίας 10 π.μ. εώς 8 μ.μ.
LOCATION:ΠΛ.ΕΘΝ.ΑΝΤΙΣΤΑΣΕΩΣ, Ηλιούπολη 163 45, Ελλάδα
END:VEVENT

END:VCALENDAR
