BEGIN:VCALENDAR
VERSION:2.0
PRODID:-//hacksw/handcal//NONSGML v1.0//EN
BEGIN:VEVENT
UID:b3a7e48f039d85b598af7de11ffad9ea
DTSTAMP:20260420T181626Z

DTSTART:20151112T100000
DTEND:20151112T100000
SUMMARY:ΕΠΙΜΝΗΜΟΣΥΝΗ ΔΕΗΣΗ Τιμούμε τους Πεσόντες Πυροσβέστες
DESCRIPTION:Τιμούμε τους Πεσόντες Πυροσβέστες

Ο Πρόεδρος του ΣΠΑΥ  Βασίλης Βαλασόπουλος, Δήμαρχος Ηλιούπολης και
ο Αρχηγός του Πυρ. Σώματος, Βασίλειος Παπαγεωργίου  Αντιστράτηγος 
έχουν την τιμή να σας προσκαλέσουν την Πέμπτη  12/11/15 και ώρα
10.00 πμ, στο τρισάγιο που θα ψαλλεί στο Μνημείο των Πεσόντων Αρχιπυροσβεστών Δημήτριου Μαλούκου και Θεμιστοκλή Μαυραειδή, του Πυροσβέστη Αλέξανδρου Διαβολή και του εθελοντή Πυροσβέστη Δημήτριου Καραμολέγκου, κατά την πυρκαγιά του Υμηττού (22/07/98).

Το σημείο συνάντησης με κατεύθυνση το Μνημείο  και τη θέση «Πλάτωμα» στον Υμηττό,  θα είναι ο χώρος στάθμευσης παρά την 
Ιερά Μονή Αγ.Ιωάννη Καρέα.


Μετά τιμής

Ο Πρόεδρος του ΣΠΑΥ

ΒΑΣΙΛΗΣ ΒΑΛΑΣΟΠΟΥΛΟΣ
Δήμαρχος Ηλιούπολης	Ο Αρχηγός του
Πυροσβεστικού Σώματος
ΒΑΣΙΛΕΙΟΣ ΠΑΠΑΓΕΩΡΓΙΟΥ  Αντιστράτηγος

LOCATION:Λεωφ. Αγίου Ιωάννου Καρέα, Βύρωνας 162 33, Ελλάδα
END:VEVENT

END:VCALENDAR
