BEGIN:VCALENDAR
VERSION:2.0
PRODID:-//hacksw/handcal//NONSGML v1.0//EN
BEGIN:VEVENT
UID:804e27a1a9f24ca6d3eeb33a89dc658f
DTSTAMP:20260420T180829Z

DTSTART:20151106T190000
DTEND:20151127T190000
SUMMARY:Η Οικογένεια του Σχολείου. Το Σχολείο της Οικογένειας
DESCRIPTION:Ο Δήμος Ηλιούπολης στο πλαίσιο της ολοκληρωμένης προσπάθειας που καταβάλει για την βελτίωση του σχολικού περιβάλλοντος με την κοινή προσπάθεια και συνεργασία εκπαιδευτικών, γονιών και δήμου που έχουν ανάγκη τα παιδιά μας, συνεχίζει για δεύτερη χρονιά σε συνεργασία με την θεραπευτική μονάδα για το παιδί «Σπύρου Δοξιάδη» κύκλο ομιλιών με θέμα:
«Η Οικογένεια του Σχολείου. Το Σχολείο της Οικογένειας»

Οι ομιλίες θα πραγματοποιούνται κάθε Παρασκευή και ώρα 19:00 μ.μ., στο θέατρο του Δημαρχείου Ηλιούπολης (Λεωφ. Σοφ. Βενιζέλου 112-114 και Λεωφ. Πρωτόπαππα, είσοδος από Κουντουριώτη) 
από  6 έως  27 Νοεμβρίου 2015

Οι ομιλίες πραγματεύονται θέματα που συνδέονται με τις σημαντικότερες περιόδους στην ζωή του παιδιού, νηπιακή - παιδική - εφηβική. Ο κύκλος ομιλιών απευθύνεται σε εκπαιδευτικούς, γονείς και μαθητές.

ΤΟ ΠΡΟΓΡΑΜΜΑ ΟΜΙΛΙΩΝ:                                                    

•        6/11  «Ψυχοσυναισθηματική ανάπτυξη παιδιού και έφηβου »
Δρ. Σουμάκη Τζένη
(Παιδοψυχίατρος – Ψυχαναλύτρια Αντιπρόεδρος Δ.Σ. ΕΚΕΨΥΕ και Αντιπρόεδρος Δ.Σ. Εταιρείας Ψυχαναλυτικής Ψυχοθεραπείας)  
•        13/11 «Το παιδί μου και εγώ»
Παπαδάκου Σταυρούλα
(τ. Συντονίστρια Διευθύντρια Παιδιατρικού Τμήματος Ασκληπιείου Βούλας και Πρόεδρος Εφηβικής Ιατρικής)
•        20/11 «Η οικογένεια και η λειτουργία της»
POMINI MARIAVALERIA
(Κλινική ψυχολόγος - ψυχοθεραπεύτρια, Διδάκτωρ Ιατρικής Σχολής ΕΚΠΑ, Α’ Ψυχιατρική Κλινική Πανεπιστημίου Αθηνών)
•        27/11  «Οργάνωση και τεχνικές διαχείρισης της μελέτης»
Α) Αγγελική Τσαγκάρη
(Ψυχοπαιδαγωγός)
«Η μετάβαση από το δημοτικό στο γυμνάσιο. Συναισθηματικές αλλαγές και γνωστικές διεργασίες»
Β) ΡάνιαΘεοδώρου
(Σχολική ψυχολόγος, Msc)

Θα δοθούν βεβαιώσεις παρακολούθησης - Η είσοδος είναι ελεύθερη 
Η Αντιδήμαρχος Παιδείας
Κατερίνα Μαρκουλάκη
   Ο Πρόεδρος Σχ. Επιτρ. Α/θμιας Εκπαίδευσης                                       Ο Πρόεδρος Σχ. Β/θμιας Εκπαίδευσης                                           
                     Ιωάννης Αντζινάς                                                                                        Αλέξανδρος Κοντονίκας                                                     

LOCATION:Δημαρχείο Ηλιούπολης, Leoforos Sofokli Venizelou ke Protopapa, Ηλιούπολη 163 42, Ελλάδα
END:VEVENT

END:VCALENDAR
