BEGIN:VCALENDAR
VERSION:2.0
PRODID:-//hacksw/handcal//NONSGML v1.0//EN
BEGIN:VEVENT
UID:c3e16b4deaa4bb1e3ceb3fee67e2ca1c
DTSTAMP:20260421T021047Z

DTSTART:20151027T103000
DTEND:20151027T103000
SUMMARY:Ο Ισαάκ Μιζάν στο 4ο Λύκειο Ηλιούπολης
DESCRIPTION:Σας ενημερώνουμε σχετικά με την εκδήλωση του 4ου Λυκείου Ηλιούπολης για την επέτειο της 28ης Οκτωβρίου, που θα γίνει στο θέατρο εκδηλώσεων του σχολείου, την Τρίτη 27/10, στις 10.30 το πρωί, με επίσημο καλεσμένα, τον Ισαάκ Μιζάν, έναν επιζώντα από το στρατόπεδο συγκέντρωσης του Άουσβιτς.

Με εκτίμηση

Ο Διευθυντής του 4ου ΓΕΛ Ηλιούπολης
Χρυσουλάκης Φώτης
LOCATION:4ο Ενιαίο Λύκειο Ηλιούπολης, Βάκχου 13, Ηλιούπολη 163 45, Ελλάδα
END:VEVENT

END:VCALENDAR
