BEGIN:VCALENDAR
VERSION:2.0
PRODID:-//hacksw/handcal//NONSGML v1.0//EN
BEGIN:VEVENT
UID:439053b75552d67850859a00eef9bd55
DTSTAMP:20260421T021903Z

DTSTART:20151028T200000
DTEND:20151028T200000
SUMMARY:ΗΛΙΟΥ-πόλις ανθρώπινη πόλη -παρουσίαση του βιβλίου της Δέσποινας Παρασκευά – Βελουδογιάννη Ο ΕΧΘΡΟΣ- ΤΟ ΑΙΜΑ - Ο ΤΙΜΩΡΟΣ
DESCRIPTION:ΠΡΟΣΚΛΗΣΗ
Η Δημοτική Κίνηση ” ΗΛΙΟΥ-πόλις ανθρώπινη πόλη”, 
σας προσκαλεί  την Τετάρτη 28 Οκτωβρίου 
και ώρα 20:00   στα γραφεία  της,
Ηρώς Κωνσταντοπούλου & Ηρακλείτου 1, 
στην παρουσίαση του βιβλίου της
Δέσποινας Παρασκευά – Βελουδογιάννη
Ο ΕΧΘΡΟΣ- ΤΟ ΑΙΜΑ - Ο ΤΙΜΩΡΟΣ
που αναλύει τις βασικές θεματικές οι οποίες αναπτύσσονται στον φασιστικό λόγο.
Θα ακολουθήσει συζήτηση.

Είσοδος ελεύθερη με συνεισφορά τροφίμων για το Δίκτυο Αλληλεγγύης ΗΛΙΟΥ-πόλις

LOCATION:Ηρακλείτου 1, Ηλιούπολη 163 41, Ελλάδα
END:VEVENT

END:VCALENDAR
