BEGIN:VCALENDAR
VERSION:2.0
PRODID:-//hacksw/handcal//NONSGML v1.0//EN
BEGIN:VEVENT
UID:ef64862acf4e0fc5ada07e2f77bf10e4
DTSTAMP:20260420T211045Z

DTSTART:20151021T200000
DTEND:20151120T223000
SUMMARY:ATTILIO Οικεία Τέχνη "Απο το ξύλο στο χαρτί ...και όχι μόνο.Μεταμορφώσεις Υλικών"
DESCRIPTION:8 Καλλιτέχνες συναντούν το βλέμμα του περαστικού στις βιτρίνες του
"ATTILIO Οικεία Τέχνη".
Μέσα σπο τη σκέψη και τα χέρια τους ,μεταμορφώνουν το ξύλο, το χαρτί, αλλά και υλικά "άλλα", άχρηστα για τους περισσότερους, σε έργα που διηγούνται προσωπικές τους διαδρομές.

ΜΑΡΙΑ ΓΡΗΓΟΡΙΟΥ
ΒΥΡΩΝ ΔΗΜΗΤΡΑΚΟΥΛΗΣ
ΜΙΧΑΗΛ ΛΟΥΡΟΣ
ΓΙΑΝΝΗΣ ΜΑΡΓΕΤΗΣ
ΝΙΚΗ ΝΙΚΟΛΑΙΔΗ
ΓΙΑΝΝΗΣ ΠΑΠΑΔΟΠΟΥΛΟΣ
ΓΙΑΝΝΗΣ ΠΑΠΑΦΙΛΙΠΠΟΠΟΥΛΟΣ
ΝΙΚΟΛΑΣ ΧΑΤΖΗΣ
LOCATION:Λεωφ. Σοφοκλή Βενιζέλου και Ρήγα Φεραίου, Ηλιούπολη 163 43, Ελλάδα
END:VEVENT

END:VCALENDAR
