BEGIN:VCALENDAR
VERSION:2.0
PRODID:-//hacksw/handcal//NONSGML v1.0//EN
BEGIN:VEVENT
UID:b73cdde41c4513707a4ee38f46e112dd
DTSTAMP:20260421T021303Z

DTSTART:20151023T203000
DTEND:20151023T203000
SUMMARY:Ο ΦΟΙΒΟΣ ΟΙΚΟΝΟΜΙΔΗΣ ΣΤΟ ΑΠΡΟΒΛΕΠΤΟ
DESCRIPTION:Το βιβλιοπωλείο Απρόβλεπτο και οι εκδόσεις Μετρονόμος σας προσκαλούν στην παρουσίαση του νέου βιβλίου του Φοίβου Οικονομίδη ''Το παγκόσμιο παιχνίδι στα Βαλκάνια,Οι ελληνο-γιουγκοσλαβικές σχέσεις 1941-1960''.
Η εκδήλωση θα πραγματοποιηθεί την Παρασκευή 23 Οκτωβρίου στις 8:30 μ.μ. 
Για το βιβλίο θα μιλήσουν ο δημοσιογράφος Στέλιος Ελληνιάδης και ο ίδιος ο συγγραφέας. Χαιρετισμό θ’ απευθύνει και ο εκδότης του Μετρονόμου Θανάσης Συλιβός. Θ’ ακολουθήσει συζήτηση και μικρό μουσικό πρόγραμμα με το Νίκο Ανδρουλάκη.
Η παρουσίαση θα βιντεοσκοπηθεί.

LOCATION:Ρήγα Φεραίου 25, Ηλιούπολη 163 43, Ελλάδα
END:VEVENT

END:VCALENDAR
