BEGIN:VCALENDAR
VERSION:2.0
PRODID:-//hacksw/handcal//NONSGML v1.0//EN
BEGIN:VEVENT
UID:feb19313091013df07e9451241159d19
DTSTAMP:20260421T004442Z

DTSTART:20231027T200000
DTEND:20231027T200000
SUMMARY:ΣΤΗΝ ΑΝΑΜΟΝΗ - θεατρική παράσταση 
DESCRIPTION:13ο ΘΕΑΤΡΙΚΟ ΦΕΣΤΙΒΑΛ ΤΕΧΝΗΣ ΘΕΑΤΡΟΥ
                      
                            Β ΚΥΚΛΟΣ ?

?27 - 28 & 29 ΟΚΤΩΒΡΙΟΥ 2023 

Θεατρικό έργο  «ΣΤΗΝ ΑΝΑΜΟΝΗ…» από την ομάδα ενηλίκων το τμήμα Τρίτης. 

▪️Διδασκαλια-Σκηνοθεσία: ΑΡΓΥΡΩ ΔΗΜΑΚΕΑ

?Καλλιτεχνική επιμέλεια: Τέχνης Θεάτρου Μικρό θέατρο
?Επιμέλεια σκηνικών και δημιουργικό έντυπα και αφίσες: ΓΙΟΥΛΗ ΓΚΙΚΟΠΟΥΛΟΥ

Παίρνουν μέρος με σειρά εμφάνισης:
Νίνα Παπαδόπουλου 
Ιωάννα Μαμαρέλη
Κρυσταλία Κουβράκη
Τζώρτζια Κοττά
Γιώτα Σπανού
Όλγα Μπενούκα
Ιώαννα Μπάστα
Κλαίρη Γεωργαλά

«Τι μπορεί να συμβεί όταν συναντιούνται οχτώ γυναίκες στο θάλαμο αναμονής ενός ιδρύματος.
Οχτώ διαφορετικές προσωπικότητες, σε μια συγκεκριμένη συνθήκη ταράζουν τα νερά…»

?ΘΕΑΤΡΟ ΗΛΙΟΥΠΟΛΗΣ - ΜΙΚΗΣ ΘΕΟΔΩΡΑΚΗΣ
?ΩΡΑ ΕΝΑΡΞΗΣ: 20:00

Πληροφορίες: 6909944634
LOCATION:Κλειστό Δημοτικό Θέατρο Δήμου Ηλιουπόλεως, 2, Κουντουριώτου, Ηλιούπολη, Δήμος Ηλιούπολης, Περιφερειακή Ενότητα Κεντρικού Τομέα Αθηνών, Περιφέρεια Αττικής, Αποκεντρωμένη Διοίκηση Αττικής, 163 42, Ελλάς
END:VEVENT

END:VCALENDAR
