BEGIN:VCALENDAR
VERSION:2.0
PRODID:-//hacksw/handcal//NONSGML v1.0//EN
BEGIN:VEVENT
UID:b52db29891669395181cd895e888ca79
DTSTAMP:20260420T164703Z

DTSTART:20230925T180000
DTEND:20230925T180000
SUMMARY:Προεκλογική συγκέντρωση Κυριακής Μαρή
DESCRIPTION:Με ιδιαίτερη χαρά σας προσκαλώ την Δευτέρα 25 Σεπτεμβρίου και ώρα 18:00 στην προεκλογική μου συγκέντρωση για τις Δημοτικές Εκλογές στην Αγία Μαρίνα στην αίθουσα "ο Λάμπρος" , Διγενή 18.
Στην εκδήλωση θα μιλήσει ο Υποψήφιος Δήμαρχος Στάθης Ψυρρόπουλος.
Η παρουσία σας θα με τιμήσει !
LOCATION:Διγενή, Ηλιούπολη, Δήμος Ηλιούπολης, Περιφερειακή Ενότητα Κεντρικού Τομέα Αθηνών, Περιφέρεια Αττικής, Αποκεντρωμένη Διοίκηση Αττικής, 163 44, Ελλάς
END:VEVENT

END:VCALENDAR
