BEGIN:VCALENDAR
VERSION:2.0
PRODID:-//hacksw/handcal//NONSGML v1.0//EN
BEGIN:VEVENT
UID:94f916a63e999d78bc484836d2655e65
DTSTAMP:20260420T180315Z

DTSTART:20151020T180000
DTEND:20151020T180000
SUMMARY:Για τις νέες καρδιολογικές δράσεις του Δήμου 
DESCRIPTION:Σας  προσκαλούμε στο Δημοτικό Θέατρο του Δήμου Ηλιούπολης την Τρίτη 20 Οκτωβρίου 2015 και ώρα 18:00 στην ενημερωτική εκδήλωση για τις νέες δράσεις του Δήμου μας: 

1.	Των Απινιδωτών 
2.	Των Τηλεκαρδιογράφων  
3.	Kαι την ενημέρωση λειτουργίας της Τηλεειδοποίησης

Είναι τρείς κοινωνικές δράσεις που παρεμβαίνουν καθημερινά στα σοβαρά έκτακτα καρδιολογικά περιστατικά των δημοτών μας και που η έγκαιρη και σωστή χρήση τους πραγματικά σώζει ζωές, επαναφέροντας στην ζωή ανθρώπους που έπαθαν ανακοπή καρδίας. 

Πιο συγκεκριμένα: 

ΟΙ ΑΠΙΝΙΔΩΤΕΣ (7 τον αριθμό)  θα τοποθετηθούν στοχευμένα σε κομβικά σημεία του Δήμου (Σχολικά συγκροτήματα, ΚΑΠΗ, Γήπεδα, κλπ) και θα χρησιμοποιούνται αποκλειστικά από εκπαιδευμένους χειριστές. Αξίζει να τονιστεί μια σημαντική λεπτομέρεια: κάθε λεπτό καθυστέρησης στη χρήση του απινιδωτή σε έκτακτο περιστατικό στην ανάταξη ανακοπής, αφαιρεί ποσοστό επαναφοράς στην ζωή 10%.

ΟΙ ΤΗΛΕΚΑΡΔΙΟΓΡΑΦΟΙ  (2 τον αριθμό) μεταφέρονται από ειδικά εκπαιδευμένο άτομο στον χώρο του ασθενούς. Η εξέταση, η αξιολόγηση των ευρημάτων του ηλεκτροκαρδιογραφήματος και οι οδηγίες για την έκτακτη αντιμετώπιση του καρδιολογικού προβλήματος γίνονται εντελώς δωρεάν από συμβεβλημένο ιατρικό κέντρο (ειδικό καρδιολόγο).

Η ΤΗΛΕΕΙΔΟΠΟΙΗΣΗ 
Σύντομα θα τεθούν σε λειτουργία, οι μικροσυσκευές τηλεειδοποίησης όπου θα υπάρξει και η σχετική ενημέρωση.

Πρόσβαση στον Tηλεκαρδιογράφο θα έχουν όλοι οι συνδημότες μας στους οποίους θα δοθεί τηλέφωνο επικοινωνίας.

Ο ΔΗΜΑΡΧΟΣ  ΗΛΙΟΥΠΟΛΗΣ
ΒΑΣΙΛΗΣ ΒΑΛΑΣΟΠΟΥΛΟΣ
LOCATION:Λεωφ. Ελ. Βενιζέλου 114, Ηλιούπολη 163 45, Ελλάδα
END:VEVENT

END:VCALENDAR
