BEGIN:VCALENDAR
VERSION:2.0
PRODID:-//hacksw/handcal//NONSGML v1.0//EN
BEGIN:VEVENT
UID:0c9b1c1f3148acdae7fdb836fd502d30
DTSTAMP:20260420T174303Z

DTSTART:20230408T200000
DTEND:20230409T200000
SUMMARY:ΤΟ ΦΕΣΤΙΒΑΛ ΔΡΑΜΑΣ ΤΑΞΙΔΕΥΕΙ ΣΤΗΝ ΗΛΙΟΥΠΟΛΗ
DESCRIPTION:ΣΑΒΒΑΤΟ 08/04/2023
και
ΚΥΡΙΑΚΗ 09/04/2023 
ΔΙΗΜΕΡΟ ΠΡΟΒΟΛΩΝ ΤΩΝ ΒΡΑΒΕΥΜΕΝΩΝ ΤΑΙΝΙΩΝ
ΤΟΥ 45ου ΦΕΣΤΙΒΑΛ ΕΛΛΗΝΙΚΩΝ ΤΑΙΝΙΩΝ ΜΙΚΡΟΥ ΜΗΚΟΥΣ ΔΡΑΜΑΣ (2022, 6 + 6 ταινίες, 118 ́ + 104 ́)
• Σε συνεργασία με το Φεστιβάλ Ταινιών Μικρού Μήκους Δράμας.
LOCATION:Μουσείο Εθνικής Αντίστασης, Μαρίνου Αντύπα, Ηλιούπολη, Δήμος Ηλιούπολης, Περιφερειακή Ενότητα Κεντρικού Τομέα Αθηνών, Περιφέρεια Αττικής, Αποκεντρωμένη Διοίκηση Αττικής, 163 45, Ελλάς
END:VEVENT

END:VCALENDAR
