BEGIN:VCALENDAR
VERSION:2.0
PRODID:-//hacksw/handcal//NONSGML v1.0//EN
BEGIN:VEVENT
UID:b1c75ab134520579c82a247f6c4df481
DTSTAMP:20260420T164507Z

DTSTART:20230205T113000
DTEND:20230205T113000
SUMMARY:Προκλήσεις και προτάσεις για την Ηλιούπολη
DESCRIPTION:Ο Υποψήφιος Δήμαρχος Ηλιούπολης Δημήτρης Ευαγγέλου και η δημοτική παράταξη "Φωτεινή Πόλη" σας προσκαλούν στην εκδήλωση: "Προκλήσεις και προτάσεις για την Ηλιούπολη"
LOCATION:Σκουφά, Ηλιούπολη, Δήμος Ηλιούπολης, Περιφερειακή Ενότητα Κεντρικού Τομέα Αθηνών, Περιφέρεια Αττικής, Αποκεντρωμένη Διοίκηση Αττικής, 163 46, Ελλάς
END:VEVENT

END:VCALENDAR
