BEGIN:VCALENDAR
VERSION:2.0
PRODID:-//hacksw/handcal//NONSGML v1.0//EN
BEGIN:VEVENT
UID:a61c7dff5507c03d0f9bee7db4fbfbd9
DTSTAMP:20260420T162710Z

DTSTART:20210915T203000
DTEND:20210915T203000
SUMMARY:ΠΡΟΒΟΛΗ ΤΑΙΝΙΑ-"ΜΙΑ ΓΥΝΑΙΚΑ ΕΞΟΜΟΛΟΓΕΙΤΑΙ"
DESCRIPTION:
 ΤΕΤΑΡΤΗ   15/09/2021              ΜΙΑ ΓΥΝΑΙΚΑ ΕΞΟΜΟΛΟΓΕΙΤΑΙ (A WOMAN UNDER THE INFLUENCE)





                                                                 του Τζον Κασαβέτης (ΗΠΑ, 1974, έγχρωμη, 155΄)



 



ü Χρυσή Σφαίρα (ΗΠΑ) Καλύτερης Ηθοποιού (Τζίνα Ρόουλαντς)



Ο Νικ Λονγκέτι (Πίτερ Φολκ) είναι εργάτης σε μια εταιρεία υδάτων, ενώ η γυναίκα του, η Μέιμπελ (Τζίνα Ρόουλαντς), μένει στο σπίτι και ασχολείται με τα τρία μικρά παιδιά τους. Η Μέιμπελ περνάει μια σοβαρή ψυχική κρίση και ο άντρας της αναγκάζεται να συναινέσει στον εγκλεισμό της για ένα μικρό διάστημα σε νευρολογική κλινική. Όταν η Μέιμπελ επιστρέφει, όλη η οικογένεια, συγγενείς και φίλοι συγκεντρώνονται στο σπίτι να το γιορτάσουν με ένα γεύμα. Η Μέιμπελ παθαίνει νέα κρίση και αποπειράται να αυτοκτονήσει. Διεισδυτική προσέγγιση του θέματος της κρίσης του γάμου, με ιδιαίτερη έμφαση στη θέση της γυναίκας.





ΣΤΟΝ ΔΗΜΟΤΙΚΟ ΚΙΝΗΜΑΤΟΓΡΑΦΟ ΗΛΙΟΥΠΟΛΗΣ «ΜΕΛΙΝΑ ΜΕΡΚΟΥΡΗ»



                                                   (Λεωφ. Ειρήνης 50, Πλατεία Εθνικής Αντίστασης, Άνω Ηλιούπολη,



Τηλ.: 210 9937870, 210 9941199, 210 9914732, 6945405825,



E-mail: cineclubilioupolis@gmail.com, Ιστοσελίδα: www.klh.gr)



https://www.youtube.com/watch?v=d5O7ujg3VQU





LOCATION:
END:VEVENT

END:VCALENDAR
