BEGIN:VCALENDAR
VERSION:2.0
PRODID:-//hacksw/handcal//NONSGML v1.0//EN
BEGIN:VEVENT
UID:f762afe88240f0fec6fa171ebe5265d3
DTSTAMP:20260419T130337Z

DTSTART:20210901T203000
DTEND:20210901T203000
SUMMARY:ΠΡΟΒΟΛΗ ΤΑΙΝΙΑ "ΕΧΩ ΔΙΚΑΙΩΜΑ ΝΑ ΖΗΣΩ" 
DESCRIPTION:ΚΛΑΣΙΚΕΣ ΔΗΜΙΟΥΡΓΙΕΣ ΤΟΥ ΑΜΕΡΙΚΑΝΙΚΟΥ ΠΟΛΙΤΙΚΟΥ ΚΙΝΗΜΑΤΟΓΡΑΦΟΥ



l ΤΕΤΑΡΤΗ   01/09/2021              

                                                                 του Φριτς Λανγκ (ΗΠΑ, 1937, ασπρόμαυρη, 86΄)



 





 



Πρώιμο φιλμ νουάρ (πρωτότυπος τίτλος: Ζεις μόνο μια φορά), από τις πρώτες ταινίες της αμερικανικής περιόδου του Φριτς Λανγκ (1890-1976). Την περίοδο της μεγάλης οικονομικής κρίσης, ένας πρώην κατάδικος (Χένρι Φόντα) προσπαθεί να επανενταχθεί κοινωνικά, αλλά διαπιστώνει ότι η σκιά της παλιάς του καταδίκης θα τον ακολουθεί για πάντα. Δριμύ κατηγορώ ενάντια σε ένα απάνθρωπο πολιτικό και κοινωνικό σύστημα. Καθοριστικός ο ρόλος της μοίρας (στενά δεμένης με τον κοινωνικό περίγυρο) και του έρωτα.







TRAILER

https://www.youtube.com/watch?v=nItR7fwdbOI

(Από τις 18/08/2021 στις 8:30 μ.μ. και στις 10:30 μ.μ.)







ΣΤΟΝ ΔΗΜΟΤΙΚΟ ΚΙΝΗΜΑΤΟΓΡΑΦΟ ΗΛΙΟΥΠΟΛΗΣ «ΜΕΛΙΝΑ ΜΕΡΚΟΥΡΗ»







                                                   (Λεωφ. Ειρήνης 50, Πλατεία Εθνικής Αντίστασης, Άνω Ηλιούπολη,







Τηλ.: 210 9937870, 210 9941199, 210 9914732, 6945405825,







E-mail: cineclubilioupolis@gmail.com, Ιστοσελίδα: www.klh.gr)


ΚΛΑΣΙΚΕΣ ΔΗΜΙΟΥΡΓΙΕΣ ΤΟΥ ΑΜΕΡΙΚΑΝΙΚΟΥ ΠΟΛΙΤΙΚΟΥ ΚΙΝΗΜΑΤΟΓΡΑΦΟΥ



l ΤΕΤΑΡΤΗ   01/09/2021              

                                                                 του Φριτς Λανγκ (ΗΠΑ, 1937, ασπρόμαυρη, 86΄)



 





 



Πρώιμο φιλμ νουάρ (πρωτότυπος τίτλος: Ζεις μόνο μια φορά), από τις πρώτες ταινίες της αμερικανικής περιόδου του Φριτς Λανγκ (1890-1976). Την περίοδο της μεγάλης οικονομικής κρίσης, ένας πρώην κατάδικος (Χένρι Φόντα) προσπαθεί να επανενταχθεί κοινωνικά, αλλά διαπιστώνει ότι η σκιά της παλιάς του καταδίκης θα τον ακολουθεί για πάντα. Δριμύ κατηγορώ ενάντια σε ένα απάνθρωπο πολιτικό και κοινωνικό σύστημα. Καθοριστικός ο ρόλος της μοίρας (στενά δεμένης με τον κοινωνικό περίγυρο) και του έρωτα.







TRAILER

https://www.youtube.com/watch?v=nItR7fwdbOI

(Από τις 18/08/2021 στις 8:30 μ.μ. και στις 10:30 μ.μ.)







ΣΤΟΝ ΔΗΜΟΤΙΚΟ ΚΙΝΗΜΑΤΟΓΡΑΦΟ ΗΛΙΟΥΠΟΛΗΣ «ΜΕΛΙΝΑ ΜΕΡΚΟΥΡΗ»







                                                   (Λεωφ. Ειρήνης 50, Πλατεία Εθνικής Αντίστασης, Άνω Ηλιούπολη,







Τηλ.: 210 9937870, 210 9941199, 210 9914732, 6945405825,







E-mail: cineclubilioupolis@gmail.com, Ιστοσελίδα: www.klh.gr)







 







 






 







 


LOCATION:
END:VEVENT

END:VCALENDAR
