BEGIN:VCALENDAR
VERSION:2.0
PRODID:-//hacksw/handcal//NONSGML v1.0//EN
BEGIN:VEVENT
UID:0c3660f39dc5e791a4964aeea4d018de
DTSTAMP:20260420T174303Z

DTSTART:20210721T210000
DTEND:20210721T210000
SUMMARY:ΠΡΟΒΟΛΗ ΤΑΙΝΙΑ-"ΕΡΩΤΙΚΗ ΕΠΙΘΥΜΙΑ "
DESCRIPTION:ΤΟ ΑΙΣΘΗΣΙΑΚΟ ΚΑΙ ΕΙΚΑΣΤΙΚΟ ΣΥΜΠΑΝ ΤΟΥ ΓΟΥΟΝΓΚ ΚΑΡ-ΓΟΥΑΪ 



● ΤΕΤΑΡΤΗ   21/07/2021       ΕΡΩΤΙΚΗ ΕΠΙΘΥΜΙΑ (ΦΑ ΓΙΕΟΥΝΓΚ ΝΙΝ ΓΟΥΑΪ)  

                                                           του Γουόνγκ Καρ-Γουάι (ΧΟΝΓΚ ΚΟΝΓΚ/ΚΙΝΑ, 2000, έγχρωμη, 98΄)





Βραβείο Καλύτερης Ανδρικής Ερμηνείας (Τόνι Τσίου-Γουάι Λέουνγκ) στο Διεθνές Φεστιβάλ Κινηματογράφου Κανών

https://www.youtube.com/watch?v=INXNJxb1zxY

Μια από τις σημαντικότερες ταινίες της νέας χιλιετίας. Αποτελεί το δεύτερο μέρος της «τριλογίας του έρωτα» (Οι άγριες μέρες μας, 1990 και 2046, 2004 οι άλλες δύο). Το 1962, στο Χονγκ Κονγκ, δύο ζευγάρια μετακομίζουν στην ίδια πολυκατοικία. Ο άνδρας του ενός και η γυναίκα του άλλου αντιμετωπίζουν μαζί τη μοναξιά τους, μιας και διαπιστώνουν πως οι σύντροφοί τους είναι εραστές. Ανολοκλήρωτος έρωτας, πάθος μετέωρο. Ατμόσφαιρα ημιφώτων, σκοταδιών, βλεμμάτων και εκφράσεων, που καταγράφεται με εξαιρετικό εικαστικό τρόπο από τον διευθυντή φωτογραφίας Κρίστοφερ Ντόιλ, μόνιμο συνεργάτη του Γουόνγκ Καρ-Γουάι.



https://tetragwno.gr/kinimatografos/tainies/i-erotiki-epithymia-toy-goyongk-kar-goyai-stoys-kinimatografoys






ΚΑΘΕ ΤΕΤΑΡΤΗ ΣΤΙΣ 9:00 μ.μ. ΚΑΙ ΣΤΙΣ 11:00 μ.μ. 
(Από τις 18/08/2021 στις 8:30 μ.μ. και στις 10:30 μ.μ.)
ΣΤΟΝ ΔΗΜΟΤΙΚΟ ΚΙΝΗΜΑΤΟΓΡΑΦΟ ΗΛΙΟΥΠΟΛΗΣ «ΜΕΛΙΝΑ ΜΕΡΚΟΥΡΗ»
		                      (Λεωφ. Ειρήνης 50, Πλατεία Εθνικής Αντίστασης, Άνω Ηλιούπολη,
Τηλ.: 210 9937870, 210 9941199, 210 9914732, 6945405825, 
E-mail: cineclubilioupolis@gmail.com, Ιστοσελίδα: www.klh.gr)
LOCATION:
END:VEVENT

END:VCALENDAR
