BEGIN:VCALENDAR
VERSION:2.0
PRODID:-//hacksw/handcal//NONSGML v1.0//EN
BEGIN:VEVENT
UID:e8e42d6120354367bc2bc759f690d12c
DTSTAMP:20260420T163535Z

DTSTART:20210623T210000
DTEND:20210623T210000
SUMMARY:ΠΡΟΒΟΛΗ ΤΑΙΝΙΑ"-ΜΕ ΚΟΜΜΕΝΗ ΤΗΝ ΑΝΑΣΑ"
DESCRIPTION:ΖΑΝ-ΛΙΚ ΓΚΟΝΤΑΡ ΚΑΙ ΖΑΝ-ΠΙΕΡ ΜΕΛΒΙΛ: ΚΟΡΥΦΑΙΟΙ ΕΚΠΡΟΣΩΠΟΙ ΤΗΣ ΝΟΥΒΕΛ ΒΑΓΚ ΚΑΙ ΤΟΥ ΓΑΛΛΙΚΟΥ ΦΙΛΜ ΝΟΥΑΡ
 
 ΤΕΤΑΡΤΗ  23/06/2021        ΜΕ ΚΟΜΜΕΝΗ ΤΗΝ ΑΝΑΣΑ (À BOUT DE SOUFFLE)
του Ζαν-Λικ Γκοντάρ (ΓΑΛΛΙΑ, 1960, ασπρόμαυρη, 90΄)

 Αργυρή Άρκτος Καλύτερης Σκηνοθεσίας στο Διεθνές Φεστιβάλ Κινηματογράφου Βερολίνου
Η πρώτη μεγάλου μήκους ταινία του Ζαν-Λικ Γκοντάρ αποτελεί τομή στην ιστορία του παγκόσμιου κινηματογράφου. Ταινία-σύμβολο του γαλλικού Νέου Κύματος (Nouvelle Vague) και του μοντέρνου κινηματογράφου, που ανέδειξε ως πρωταγωνιστή τον Ζαν-Πολ Μπελμοντό. Ο Μισέλ Πουακάρ, ένας μικρογκάνγκστερ, κλέβει ένα αυτοκίνητο στη Μασσαλία και στην διαδρομή του προς το Παρίσι σκοτώνει, για ασήμαντο λόγο, έναν  αστυνομικό, με το περίστροφο που βρίσκει στο αμάξι. Στο Παρίσι συναντά μια Αμερικανίδα που θέλει να γίνει δημοσιογράφος και ζει μαζί της έναν εφήμερο έρωτα.

 


ΚΑΘΕ ΤΕΤΑΡΤΗ ΣΤΙΣ 9:00 μ.μ. ΚΑΙ ΣΤΙΣ 11:00 μ.μ.
(Από τις 18/08/2021 στις 8:30 μ.μ. και στις 10:30 μ.μ.)
ΣΤΟΝ ΔΗΜΟΤΙΚΟ ΚΙΝΗΜΑΤΟΓΡΑΦΟ ΗΛΙΟΥΠΟΛΗΣ «ΜΕΛΙΝΑ ΜΕΡΚΟΥΡΗ»
                     (Λεωφ. Ειρήνης 50, Πλατεία Εθνικής Αντίστασης, Άνω Ηλιούπολη,
Τηλ.: 210 9937870, 210 9941199, 210 9914732, 6945405825,
E-mail: cineclubilioupolis@gmail.com
LOCATION:
END:VEVENT

END:VCALENDAR
