BEGIN:VCALENDAR
VERSION:2.0
PRODID:-//hacksw/handcal//NONSGML v1.0//EN
BEGIN:VEVENT
UID:d81b3bce215c5f3e61e3a1ded936c3ba
DTSTAMP:20260420T164506Z

DTSTART:20210422T190800
DTEND:20210422T210800
SUMMARY:Αγωνιστική εκδήλωση την Πέμπτη 22 Απρίλη με Συγκέντρωση και Καλλιτεχνικό Πρόγραμμα στην κεντρική Πλατεία
DESCRIPTION:Αγωνιστική εκδήλωση διοργανώνουν την Πέμπτη 22 Απρίλη, Σωματεία και Φορείς της Ηλιούπολης καλώντας το λαό της Ηλιούπολης. Η εκδήλωση θα ξεκινήσει με καλλιτεχνικό δρώμενο από τον Πανελλήνιο Μουσικό Σύλλογο στις 7 μ.μ. από την πλατεία Ηρώων Ηλιούπολης και θα ολοκληρωθεί με συγκέντρωση και καλλιτεχνικό πρόγραμμα στην Κεντρική Πλατεία στις 7.30 μ.μ.
LOCATION:
END:VEVENT

END:VCALENDAR
