BEGIN:VCALENDAR
VERSION:2.0
PRODID:-//hacksw/handcal//NONSGML v1.0//EN
BEGIN:VEVENT
UID:6ada9c77216b8fd665cbcea54918d9cb
DTSTAMP:20260420T164510Z

DTSTART:20210405T000000
DTEND:20210417T000000
SUMMARY:Συλλογή Τροφίμων για το κοινωνικό Παντοπωλείο
DESCRIPTION:Οι Α & Β ΟΜ ΣΥΡΙΖΑ ΗΛΙΟΥΠΟΛΗ΅ΠΡΟΟΔΕΥΤΙΚΗ ΣΥΜΜΑΧΙΑ
στα πλαίσια της εορτής του Πάσχα
συλλέγουμε τρόφιμα μακράς διαρκείας
για ενίσχυση της δράσης του κοινωνικού παντοπωλείου της πόλης μας.
Δίνουμε ιδιαίτερη προτίμηση σε λάδι, ζυμαρικά και ντοματοχυμούς.
Η συλλογή τροφίμων θα γίνει από
5/4/2021 ΄3ω2 17/4/2021
στα γραφεία μας,
Λ. Ειρήνης 28 1ος όροφος,
καθημερινά 18:00-20:00
Σάββατο 11:00-13:00
Στεκόμαστε αλληλέγγυοι στους συμπολίτες μας που μαστίζονται από την κρίση.


LOCATION:
END:VEVENT

END:VCALENDAR
