BEGIN:VCALENDAR
VERSION:2.0
PRODID:-//hacksw/handcal//NONSGML v1.0//EN
BEGIN:VEVENT
UID:4eee4936ed8bccf83af38a0deb90f6b4
DTSTAMP:20260420T164510Z

DTSTART:20210405T000000
DTEND:20210423T000000
SUMMARY:Κανένα σπίτι φέτος χωρίς πασχαλινό τραπέζι
DESCRIPTION:Μαραθώνιος Αλληλεγγύης και Αγάπης

Στο πλαίσιο της σημερινής συγκυρίας ,όπου η πανδημία φτωχοποιεί  και εξουθενώνει 
αδύναμες οικονομικά κοινωνικές ομάδες, 11 πολιτιστικοί και κοινωνικοί φορείς                           της Ηλιούπολης, οι «ΣΥΝΕΡΓΑΣΙΕΣ ΠΟΛΗΣ», με σύνθημα 
"Κανένα σπίτι φέτος χωρίς πασχαλινό τραπέζι"
συγκεντρώνουν τρόφιμα μακράς διάρκειας και δωροεπιταγές καταστημάτων  τροφίμων 
στηρίζοντας  άπορους και οικονομικά αδύναμους συμπολίτες μας 
για το πασχαλινό τους τραπέζι.
ΘΕΑΤΡΟ ΔΗΜΑΡΧΙΑΚΟΥ ΜΕΓΑΡΟΥ ΗΛΙΟΥΠΟΛΗΣ
Από Δευτέρα 5 Απριλίου 2021 έως και  Παρασκευή 23 Απριλίου καθημερινά 
τις εργάσιμες ημέρες  από 12:00 έως 14:00 και  από 18:00 έως 20:00.  
Επίσης το Σάββατο 10 Απριλίου από 11:00 έως 14:00.

Τα τρόφιμα και οι δωροεπιταγές, αφού καταγραφούν από σχετική επιτροπή, θα δοθούν στο Κοινωνικό Παντοπωλείο του Δήμου Ηλιούπολης και στις  ενορίες της πόλης μας, ώστε να αποδοθούν σε όσους έχουν ανάγκη.
Η μετάβαση στο Θέατρο του Δημαρχιακού Μεγάρου της Ηλιούπολης, πραγματοποιείται με τον κωδικό "2 ή 4" και με αυστηρούς κανόνες υγειονομικής  προστασίας.
 
1.	ΕΛΛΗΝΙΚΗ ΕΤΑΙΡΙΑ ΓΙΑ ΤΗ ΣΚΛΗΡΥΝΣΗ ΚΑΤΑ ΠΛΑΚΑΣ
2.	ΕΝΩΣΗ ΚΑΛΛΙΤΕΧΝΩΝ & ΛΟΓΟΤΕΧΝΩΝ ΗΛΙΟΥΠΟΛΗΣ 
3.	Κ.Ε.Ε.Π.Ε.Α. «Ορίζοντες»
4.	ΚΙΝΗΜΑΤΟΓΡΑΦΙΚΗ ΛΕΣΧΗ ΗΛΙΟΥΠΟΛΗΣ 
5.	ΠΕΡΙΒΑΛΛΟΝΤΙΚΟΣ ΠΟΛΙΤΙΣΤΙΚΟΣ ΟΜΙΛΟΣ ΑΤΤΙΚΗΣ
6.	ΠΟΛΙΤΙΣΤΙΚΟΣ Μ/Φ ΟΜΙΛΟΣ Ο «ΠΑΝ»
7.	ΠΡΟΟΔΟΣ ΑΓΙΑ ΜΑΡΙΝΑ
8.	ΡΟΤΑΡΙΑΝΟΣ ΟΜΙΛΟΣ ΗΛΙΟΥΠΟΛΗΣ
9.	ΣΥΛΛΟΓΟΣ ΚΕΡΚΥΡΑΙΩΝ ΗΛΙΟΥΠΟΛΗΣ «ΟΙ ΦΑΙΑΚΕΣ»
10.	ΣΩΜΑΤΕΙΟ  ΚΥΡΙΩΝ ΗΛΙΟΥΠΟΛΗΣ « Η ΠΡΟΟΔΟΣ»
11.	IlioupolisOnline ΕΝΗΜΕΡΩΤΙΚΗ ΚΑΙ ΠΟΛΙΤΙΣΜΙΚΗ ΑΜΚΕ

LOCATION:
END:VEVENT

END:VCALENDAR
