BEGIN:VCALENDAR
VERSION:2.0
PRODID:-//hacksw/handcal//NONSGML v1.0//EN
BEGIN:VEVENT
UID:fa97f0dd40fb575080b63327547e154b
DTSTAMP:20260419T121730Z

DTSTART:20151015T163000
DTEND:20151015T230000
SUMMARY:Συνεδρίαση του Δημοτικού Συμβουλίου Ηλιούπολης
DESCRIPTION:Σας προσκαλούμε σε τακτική  συνεδρίαση του Δημοτικού Συμβουλίου, στις  15 Οκτωβρίου 2015, ημέρα Πέμπτη  και ώρα 16:30  στην ειδική αίθουσα συνεδριάσεων του Δημαρχιακού Μεγάρου «Κώστας Κονδύλης» (Σ. Βενιζέλου 114), με θέματα:
  
1.	Σύσταση προσωρινών-προσωποπαγών θέσεων Ι.Δ.Α.Χ σε εφαρμογή δικαστικών αποφάσεων
2.	Καθορισμός Ενιαίου Ανταποδοτικού Τέλους, έτους 2016
3.	Καθορισμός Δημοτικού Φόρου, έτους 2016
4.	Καθορισμός Τελών Δημοτικού Κοιμητηρίου, έτους 2016
5.	Καθορισμός Τελών κατάληψης κοινοχρήστων χώρων, έτους 2016 
6.	Καθορισμός Τελών κατάληψης περιπτέρων, έτους 2016
7.	Καθορισμός τελών κατάληψης κοινοχρήστων χώρων για εμποροπανηγύρεις, έτους 2016
8.	Καθορισμός Τελών διαφήμισης έτους 2016
9.	Καθορισμός ανταποδοτικών τελών καθαριότητας χώρων λειτουργίας λαϊκών αγορών, έτους 2015
10.	Ορισμός υπαλλήλων για την υλοποίηση του προγράμματος «Δια Βίου Μάθησης»
11.	Έκδοση Κανονισμού Λειτουργίας Κοινωνικού Παντοπωλείου Δήμου Ηλιούπολης
12.	Τροποποίηση Τεχνικού Προγράμματος
13.	Αναμόρφωση προϋπολογισμού του Δήμου 
14.	Αναμόρφωση προϋπολογισμού  Π.ΑΟ.Δ.Η.Λ
15.	Αναμόρφωση προϋπολογισμού  Κ.ΑΦ.Α.Δ.Η.Λ.
16.	Έγκριση συμμετοχής του «Συμπαραστάτη του Δημότη» σε ημερίδες ενημέρωσης στον Δήμο Κορδελιού Ευόσμου και στον Δήμο Ρόδου
17.	Έγκριση μελέτης, ανάληψη νομικής δέσμευσης, ψήφιση πίστωσης, τον καθορισμό τρόπου εκτέλεσης με απευθείας ανάθεση, και ορισμός επιτροπής παρακολούθησης για την αντιμετώπιση δαπανών εκδήλωσης για τον Εορτασμό Παρέλασης Εθνικής Επετείου 28ης Οκτωβρίου  για το έτος 2015
18.	Νομικές δεσμεύσεις, έγκριση μελετών, καθορισμός τρόπου εκτέλεσης έργων, προμηθειών, εργασιών, κ.λπ. του Αυτοτελούς Τμήματος Πληροφορικής και Επικοινωνιών 
19.	Νομικές δεσμεύσεις, εγκρίσεις μελετών, καθορισμός τρόπου εκτέλεσης έργων, προμηθειών, εργασιών κλπ. της Διεύθυνσης  Τεχνικών υπηρεσιών
20.	Νομικές δεσμεύσεις, καθορισμός τρόπου εκτέλεσης έργων, προμηθειών, εργασιών, κ.λπ. της Διεύθυνσης Περιβάλλοντος, Ποιότητα Ζωής και Καθαριότητας 
21.	Νομικές δεσμεύσεις, καθορισμός τρόπου εκτέλεσης έργων, προμηθειών, εργασιών, κ.λπ. της Διεύθυνσης Οικονομικών Υπηρεσιών  
22.	Έκτακτες οικονομικές ενισχύσεις 
23.	Έγκριση εισηγητικής έκθεσης Β΄ τριμήνου προϋπολογισμού  2015  
24.	Έγκριση ή μη Πρακτικού Επιτροπής Διενέργειας και Αξιολόγησης διαγωνισμού και επανάληψη της διαδικασίας διαπραγμάτευσης για την προμήθεια «έτοιμα μικρογεύματα» για τις ανάγκες του Δήμου Ηλιούπολης  και των Νομικών του Προσώπων 
25.	Έγκριση ή μη Πρακτικού Επιτροπής Διενέργειας και Αξιολόγησης διαγωνισμού και επανάληψης της διαδικασίας διαπραγμάτευσης για την προμήθεια «είδη Αρτοποιείου - Ζαχαροπλαστείου» για τις ανάγκες του Δήμου Ηλιούπολης και των Νομικών του Προσώπων
26.	Επικύρωση πρακτικών της Συμβιβαστικής Επιτροπής Επίλυσης Φορολογικών Διαφορών 
27.	Επικύρωση πρακτικών της Συμβιβαστικής Επιτροπής Επίλυσης Φορολογικών Διαφορών και ψήφιση πίστωσης 
28.	Κίνηση διαδικασιών εκμίσθωσης ακινήτου επί της οδού Σοφ. Βενιζέλου 103 (κληροδότημα Τουραμάνογλου
29.	Παράταση προθεσμίας αποπεράτωσης του έργου «Διαμόρφωση περιβάλλοντος χώρου στο οικόπεδο του ΚΔΑΠ Α.Μ.Ε.Α.» (Α.Μ. 9/2015) 
30.	 Έγκριση 1ου Ανακεφαλαιωτικού  πίνακα εργασιών  ΑΠΕ για το έργο «Διαμόρφωση περιβάλλοντος χώρου στο οικόπεδο του ΚΔΑΠ» (Α.Μ. 9/2015)
31.	Έγκριση 1ου ανακεφαλαιωτικού πίνακα του έργου «Υποέργο 3 ΠΡΟΓΡΑΜΜΑ ΕΞΟΙΚΟΝΟΜΩ - Ενεργειακές αναβαθμίσεις σε κτίρια του Δήμου Ηλιούπολης» 
32.	Έγκριση 1ου ανακεφαλαιωτικού πίνακα του έργου «Κατασκευές ασφαλείας σε δημόσια κτίρια» (Α.Μ. 6/2015)
33.	Έγκριση ή μη παραχώρησης χώρου στάθμευσης (Ρ-72) αυτοκινήτου, για λόγους αναπηρίας επί της οδού Ζαλόγγου αριθ. 11
34.	Έγκριση ή μη παραχώρησης χώρου στάθμευσης (Ρ-72) αυτοκινήτου, για λόγους αναπηρίας επί της οδού Λ. Κατσώνη αριθ. 7 
35.	Κυκλοφοριακή ρύθμιση στις οδούς Ηρώς Κωνσταντοπούλου και Θάλειας Λουκίδου έξω από το 13ο  Δημοτικό Σχολείο Ηλιούπολης.  
36.	Ορισμός επιτροπής παραλαβής «Διαγράμμιση οδοστρωμάτων και χρωματισμός κεντρικών νησίδων στο Δ. Ηλιούπολης» (Α.Μ. 02/2014)
37.	Ορισμός επιτροπής παραλαβής «Κατασκευή αντιολισθηρού τάπητα – τσιμεντοστρώσεις – πλακοστρώσεις σε δρόμους με μεγάλη κλίση» (Α.Μ. 04/2013)

Ο Πρόεδρος του Δημοτικού Συμβουλίου Ηλιούπολης
                        Κώστας Γ. Σεφτελής

LOCATION:Δημαρχείο Ηλιούπολης, Leoforos Sofokli Venizelou ke Protopapa, Ηλιούπολη 163 42, Ελλάδα
END:VEVENT

END:VCALENDAR
