BEGIN:VCALENDAR
VERSION:2.0
PRODID:-//hacksw/handcal//NONSGML v1.0//EN
BEGIN:VEVENT
UID:3f46ddf6251dbb50a1930eac0cc6e078
DTSTAMP:20260420T164510Z

DTSTART:20210403T193000
DTEND:20210403T193000
SUMMARY:Η τιμωρητική πολιτική απέναντι στις δυνάμεις του πολιτισμού και της δημιουργίας
DESCRIPTION:Διαδικτυακή Εκδήλωση των Α΄ & Β΄ ΟΜ ΣΥΡΙΖΑ Ηλιούπολης-Προοδευτική Συμμαχία σε συνδιοργάνωση με Νεολαία ΣΥΡΙΖΑ Ηλιούπολης

Ομιλητές/-τριες:
-Άννα Ελεφάντη (ηθοποιός, καλλιτεχνική διευθύντρια στο «Από Μηχανής Θέατρο»)
-Όμηρος Πουλάκης (ηθοποιός, μέλος του Σωματείου Ελλήνων Ηθοποιών)
-Δώρα Χρυσικού (ηθοποιός, μέλος του Σωματείου Ελλήνων Ηθοποιών)
- Νίκος Μωραΐτης (στιχουργός)
-Κώστας Στρατής (πρώην Υφυπουργός Πολιτισμού)
- Αδαμαντία Αρανίτη (μέλος της Νεολαίας ΣΥΡΙΖΑ Ηλιούπολης)
Παρεμβαίνουν καλλιτέχνες και ομάδες της πόλης
LOCATION:
END:VEVENT

END:VCALENDAR
