BEGIN:VCALENDAR
VERSION:2.0
PRODID:-//hacksw/handcal//NONSGML v1.0//EN
BEGIN:VEVENT
UID:644d0a91df1800af501f00bfe797e33c
DTSTAMP:20260420T165940Z

DTSTART:20191211T183000
DTEND:20191211T183000
SUMMARY:ΟΠΣΑ - "Η νέα Αυτοδιοικητική Πορεία"
DESCRIPTION:ΠΡΟΣΚΛΗΣΗ

Εκδήλωση του ΟΠΣΑ με θέμα "Η νέα Αυτοδιοικητική Πορεία"

Ο Όμιλος Προετοιμασίας Στελεχών Αυτοδιοίκησης (Ο.Π.Σ.Α) σε συνεργασία με τον Δήμο Ηλιούπολης και την Ένωση Δημάρχων Αττικής, διοργανώνει την Τετάρτη 11/12/2019 και ώρα 18:30 εκδήλωσή, με θεματική ενότητα: «Η νέα Αυτοδιοικητική Πορεία».

Η εκδήλωση θα πραγματοποιηθεί στην αίθουσα εκδηλώσεων του Μουσείου Εθνικής Αντίστασης, Σοφοκλή Βενιζέλου 100 & Μαρίνου Αντύπα, Ηλιούπολη.

Τη θεματική ενότητα θα αναπτύξουν με αντίστοιχες εισηγήσεις:

1. Ο κ. Γιώργος Χατζηδάκης, Δήμαρχος Ηλιούπολης.
«Λειτουργία Δημοτικού Συμβουλίου και Επιτροπών».

2. Ο κ. Παύλος Καμάρας, Πρόεδρος της Ένωσης Δημάρχων Αττικής, π. Δήμαρχος Πεύκης.
«Εκλογικό σύστημα στην Αυτοδιοίκηση».

3. Ο κ. Μιχάλης Χρηστάκης, Πρόεδρος Πανελλήνιας Ένωσης Γενικών Γραμματέων Τοπικής Αυτοδιοίκησης «ΚΛΕΙΣΘΕΝΗΣ», Γενικός Γραμματέας Δήμου Νέας Σμύρνης.
«Ο Εσωτερικός Έλεγχος ως εργαλείο αποτελεσματικότητας Διοίκησης των Ο.Τ.Α».

4. Ο κ. Νίκος Χαρδαλιάς, Γενικός Γραμματέας Πολιτικής Προστασίας, π. Δήμαρχος Βύρωνα.
«Η συμβολή των Δήμων στα θέματα Πολιτικής Προστασίας. Πρόληψη και αντιμετώπιση έκτακτων καταστάσεων από πλημύρες, πυρκαγιές, σεισμούς, κλπ».

Παρεμβάσεις ολιγόλεπτες θα κάνουν:
1. Ο κ. Γεώργιος Κουράσης, Πρόεδρος Συνδέσμου για τη Βιώσιμη Ανάπτυξη των Πόλεων, π. Δήμαρχος Χαλανδρίου.
2. Ο κ. Κωνσταντίνος Αντωνόπουλος, Αντιπρόεδρος Ο.Π.Σ.Α, π. Αντιδήμαρχος Δήμου Δωρίδος.

Συντονιστής: Ο κ. Θεόδωρος Γεωργάκης, Δικηγόρος Παρ΄ Αρείω Πάγω, Διδάκτωρ Παντείου Πανεπιστημίου, Πρόεδρος ΟΠΣΑ, π. Δήμαρχος Ηλιούπολης.

Η είσοδος είναι ελεύθερη.

ΓΙΑ ΤΟΝ ΟΜΙΛΟ
Ο ΠΡΟΕΔΡΟΣ
ΘΕΟΔΩΡΟΣ ΓΕΩΡΓΑΚΗΣ

Όμιλος Προετοιμασίας Στελεχών Αυτοδιοίκησης (Ο.Π.Σ.Α.)
Οδός Σκρά 14-16 Ηλιούπολη-Τ.Κ163 46
Τηλ: 210 9922301 - Fax: 210 9733.813
e-mail: omilosopsa@gmail.com
LOCATION:
END:VEVENT

END:VCALENDAR
