BEGIN:VCALENDAR
VERSION:2.0
PRODID:-//hacksw/handcal//NONSGML v1.0//EN
BEGIN:VEVENT
UID:de5253b848a8a2403d62a07d9833ca91
DTSTAMP:20260420T164603Z

DTSTART:20191202T190000
DTEND:20191202T190000
SUMMARY:Οικονομική Πολιτική
DESCRIPTION:Ο ΣΥΡΙΖΑ-ΠΡΟΟΔΕΥΤΙΚΗ ΣΥΜΜΑΧΙΑ

πραγματοποιεί ανοιχτή συζήτηση, με θέμα :
Οικονομική Πολιτική Ν.Δ.: Από τις προεκλογικές 
υποσχέσεις στη Δεξιά "κανονικότητα"

Ομιλητές
Οι βουλευτές, πρώην Υπουργοί και 
αναπληρωτές τομεάρχες Οικονομικών ΣΥΡΙΖΑ :

ΚΑΤΕΡΙΝΑ ΠΑΠΑΝΑΤΣΙΟΥ
ΤΡΥΦΩΝ ΑΛΕΞΙΑΔΗΣ

ΔΕΥΤΈΡΑ 2/12/2019, στις 7.00 μμ
στο Δημοτικό Αναψυκτήριο του Αλσους Ηλιούπολης
"Δημήρης Κιντής"
LOCATION:
END:VEVENT

END:VCALENDAR
