BEGIN:VCALENDAR
VERSION:2.0
PRODID:-//hacksw/handcal//NONSGML v1.0//EN
BEGIN:VEVENT
UID:922d843bf8bbd13b12b29acb95b19a61
DTSTAMP:20260420T174326Z

DTSTART:20190911T203000
DTEND:20190911T203000
SUMMARY:Προβολή ταινίας  ΤΟ ΒΛΕΜΜΑ ΤΟΥ ΟΡΣΟΝ ΓΟΥΕΛΣ
DESCRIPTION:Η ΚΙΝΗΜΑΤΟΓΡΑΦΙΚΗ ΛΕΣΧΗ ΗΛΙΟΥΠΟΛΗΣ 



ΣΑΣ ΠΡΟΣΚΑΛΕΙ ΣΤΗΝ ΠΡΟΒΟΛΗ ΤΗΣ


 ΤΕΤΑΡΤΗ   11/09/2019

 





ΤΟ ΒΛΕΜΜΑ ΤΟΥ ΟΡΣΟΝ ΓΟΥΕΛΣ (THE EYES OF ORSON WELLES)

                                                     του Μαρκ Κάζινς (ΒΡΕΤΑΝΙΑ, 2018, έγχρωμη, 115΄)

Συναρπαστικό πορτρέτο του μεγαλοφυούς και πρωτοποριακού δημιουργού Όρσον Γουέλς (1915-1985).  Όταν η κόρη του αποφάσισε να φέρει για πρώτη φορά στο φως σκίτσα και ζωγραφικά έργα του πατέρα της, τα εμπιστεύτηκε στον Βορειοϊρλανδό ντοκιμαντερίστα Μαρκ Κάζινς, δημιουργό της δεκαπεντάωρης ταινίας για την τηλεόραση The Story of Film: An Odyssey (2011). Η έρευνά του στέκεται αφορμή για ένα ακόμη υπερατλαντικό ταξίδι στα μέρη που έζησε και δημιούργησε ο Γουέλς, αλλά και έναυσμα για έναν υπερβατικό διάλογο μεταξύ τους. Μια κουβέντα σε δεύτερο πρόσωπο, που εκτυλίσσεται ποιητική αδεία στην ατόφια κινηματογραφική ενδοχώρα που ορίζουν πλάνα και σκηνές της φιλμογραφίας του σκηνοθέτη.









ΤΕΤΑΡΤΗ ΣΤΙΣ Η ΚΙΝΗΜΑΤΟΓΡΑΦΙΚΗ ΛΕΣΧΗ ΗΛΙΟΥΠΟΛΗΣ 



ΣΑΣ ΠΡΟΣΚΑΛΕΙ ΣΤΗΝ ΠΡΟΒΟΛΗ ΤΗΣ


 ΤΕΤΑΡΤΗ   11/09/2019

 





ΤΟ ΒΛΕΜΜΑ ΤΟΥ ΟΡΣΟΝ ΓΟΥΕΛΣ (THE EYES OF ORSON WELLES)

                                                     του Μαρκ Κάζινς (ΒΡΕΤΑΝΙΑ, 2018, έγχρωμη, 115΄)

Συναρπαστικό πορτρέτο του μεγαλοφυούς και πρωτοποριακού δημιουργού Όρσον Γουέλς (1915-1985).  Όταν η κόρη του αποφάσισε να φέρει για πρώτη φορά στο φως σκίτσα και ζωγραφικά έργα του πατέρα της, τα εμπιστεύτηκε στον Βορειοϊρλανδό ντοκιμαντερίστα Μαρκ Κάζινς, δημιουργό της δεκαπεντάωρης ταινίας για την τηλεόραση The Story of Film: An Odyssey (2011). Η έρευνά του στέκεται αφορμή για ένα ακόμη υπερατλαντικό ταξίδι στα μέρη που έζησε και δημιούργησε ο Γουέλς, αλλά και έναυσμα για έναν υπερβατικό διάλογο μεταξύ τους. Μια κουβέντα σε δεύτερο πρόσωπο, που εκτυλίσσεται ποιητική αδεία στην ατόφια κινηματογραφική ενδοχώρα που ορίζουν πλάνα και σκηνές της φιλμογραφίας του σκηνοθέτη.









ΤΕΤΑΡΤΗ ΣΤΙΣ 9:00 μ.μ. ΚΑΙ ΣΤΙΣ 11:00 μ.μ.

(Από τις 21/08/2019 στις 8:30 μ.μ. και στις 10:30 μ.μ.)

ΣΤΟΝ ΔΗΜΟΤΙΚΟ ΚΙΝΗΜΑΤΟΓΡΑΦΟ ΗΛΙΟΥΠΟΛΗΣ «ΜΕΛΙΝΑ ΜΕΡΚΟΥΡΗ»

                        (Λεωφ. Ειρήνης 50, Πλατεία Εθνικής Αντίστασης, Άνω Ηλιούπολη,

Τηλ.: 210 9937870, 210 9941199, 210 9914732, 6945405825, E-mail: info@klh.gr

Ιστοσελίδα: www.klh.gr)



Τεταρτη 11/'9 στις 8:30 μ.μ. και στις 10:30 μ.μ.)

ΣΤΟΝ ΔΗΜΟΤΙΚΟ ΚΙΝΗΜΑΤΟΓΡΑΦΟ ΗΛΙΟΥΠΟΛΗΣ «ΜΕΛΙΝΑ ΜΕΡΚΟΥΡΗ»

                        (Λεωφ. Ειρήνης 50, Πλατεία Εθνικής Αντίστασης, Άνω Ηλιούπολη,

Τηλ.: 210 9937870, 210 9941199, 210 9914732, 6945405825, E-mail: info@klh.gr

Ιστοσελίδα: www.klh.gr)




LOCATION:
END:VEVENT

END:VCALENDAR
