BEGIN:VCALENDAR
VERSION:2.0
PRODID:-//hacksw/handcal//NONSGML v1.0//EN
BEGIN:VEVENT
UID:6bda568c7f1f46ac936e08646203dccd
DTSTAMP:20260420T174304Z

DTSTART:20190814T210000
DTEND:20190814T210000
SUMMARY:Προβολή ταινίας Η ΕΠΟΜΕΝΗ ΜΕΡΑ ΜΙΑΣ ΣΧΕΣΗΣ 
DESCRIPTION:Η ΚΙΝΗΜΑΤΟΓΡΑΦΙΚΗ ΛΕΣΧΗ ΗΛΙΟΥΠΟΛΗΣ 



ΣΑΣ ΠΡΟΣΚΑΛΕΙ ΣΤΟΝ ΚΥΚΛΟ ΠΡΟΒΟΛΩΝ














ΟΨΕΙΣ ΤΟΥ ΣΥΓΧΡΟΝΟΥ ΕΥΡΩΠΑΪΚΟΥ, ΑΣΙΑΤΙΚΟΥ ΚΑΙ ΑΥΣΤΡΑΛΕΖΙΚΟΥ ΚΙΝΗΜΑΤΟΓΡΑΦΟΥ



l ΤΕΤΑΡΤΗ   14/08/2019         Η ΕΠΟΜΕΝΗ ΜΕΡΑ ΜΙΑΣ ΣΧΕΣΗΣ (ΓΚΕΟΥ-ΧΟΥ) 
του Σανγκ-σου Χονγκ (ΝΟΤΙΑ ΚΟΡΕΑ, 2017, ασπρόμαυρη, 92΄)





Η σχέση ενός κριτικού λογοτεχνίας και ιδιοκτήτη μικρού εκδοτικού οίκου με τρεις γυναίκες, τη σύζυγο, την ερωμένη και την καινούρια του υπάλληλο. Πολυδιάστατο σχόλιο πάνω στην ηθική των σύγχρονων επαγγελματικών, οικογενειακών κι ερωτικών σχέσεων. Στοιχεία του κινηματογράφου του Ερίκ Ρομέρ και του Γούντι Άλεν διασταυρώνονται αβίαστα σε αυτό το χαμηλών τόνων εσωτερικό δράμα. Κομψοτέχνημα κινηματογραφικής γραφής από τον Νοτιοκορεάτη δημιουργό.







ΚΑΘΕ ΤΕΤΑΡΤΗ ΣΤΙΣ 9:00 μ.μ. ΚΑΙ ΣΤΙΣ 11:00 μ.μ.

(Από τις 21/08/2019 στις 8:30 μ.μ. και στις 10:30 μ.μ.)

ΣΤΟΝ ΔΗΜΟΤΙΚΟ ΚΙΝΗΜΑΤΟΓΡΑΦΟ ΗΛΙΟΥΠΟΛΗΣ «ΜΕΛΙΝΑ ΜΕΡΚΟΥΡΗ»

                                                   (Λεωφ. Ειρήνης 50, Πλατεία Εθνικής Αντίστασης, Άνω Ηλιούπολη,

Τηλ.: 210 9937870, 210 9941199, 210 9914732, 6945405825, E-mail: info@klh.gr

Ιστοσελίδα: www.klh.gr)


LOCATION:
END:VEVENT

END:VCALENDAR
