BEGIN:VCALENDAR
VERSION:2.0
PRODID:-//hacksw/handcal//NONSGML v1.0//EN
BEGIN:VEVENT
UID:1b94f7201cdde6d6e2127454bf28a3f8
DTSTAMP:20260419T132321Z

DTSTART:20190807T210000
DTEND:20190807T210000
SUMMARY:Προβολή ταινίας ΑΝΑΣΑ ΕΛΕΥΘΕΡΙΑΣ
DESCRIPTION:Η ΚΙΝΗΜΑΤΟΓΡΑΦΙΚΗ ΛΕΣΧΗ ΗΛΙΟΥΠΟΛΗΣ 



ΣΑΣ ΠΡΟΣΚΑΛΕΙ ΣΤΟΝ ΚΥΚΛΟ ΠΡΟΒΟΛΩΝ











ΟΨΕΙΣ ΤΟΥ ΣΥΓΧΡΟΝΟΥ ΕΥΡΩΠΑΪΚΟΥ, ΑΣΙΑΤΙΚΟΥ ΚΑΙ ΑΥΣΤΡΑΛΕΖΙΚΟΥ ΚΙΝΗΜΑΤΟΓΡΑΦΟΥ

● ΤΕΤΑΡΤΗ   07/08/2019	ΑΝΑΣΑ ΕΛΕΥΘΕΡΙΑΣ (ANDIETH ETHLILEGA) 
της Ίζολντ Ουγκαντότιρ (ΙΣΛΑΝΔΙΑ/ΣΟΥΗΔΙΑ/ΒΕΛΓΙΟ, 2018, έγχρωμη, 95΄)

Βραβείο Σκηνοθεσίας στο Φεστιβάλ Κινηματογράφου Σάντανς




Μια Ισλανδή ανύπαντρη μητέρα, που αγωνίζεται σκληρά για να τα βγάλει πέρα, βρίσκει δουλειά ως ελέγκτρια διαβατηρίων. Κατά τη διάρκεια κάποιας βάρδιας ανακαλύπτει πως μια επίσης ανύπαντρη μητέρα από τη Γουινέα-Μπισάου επιχειρεί να ταξιδέψει παράνομα προς τον Καναδά. Η τελευταία συλλαμβάνεται, αλλά με έναν αναπάντεχο τρόπο οι πορείες των δύο γυναικών θα συναντηθούν ξανά. Ανθρωποκεντρική ματιά, αντιρατσιστικά μηνύματα συμφιλίωσης, λιτός αφηγηματικά και σκηνοθετικά τρόπος.
















ΚΑΘΕ ΤΕΤΑΡΤΗ ΣΤΙΣ 9:00 μ.μ. ΚΑΙ ΣΤΙΣ 11:00 μ.μ.

(Από τις 21/08/2019 στις 8:30 μ.μ. και στις 10:30 μ.μ.)

ΣΤΟΝ ΔΗΜΟΤΙΚΟ ΚΙΝΗΜΑΤΟΓΡΑΦΟ ΗΛΙΟΥΠΟΛΗΣ «ΜΕΛΙΝΑ ΜΕΡΚΟΥΡΗ»

                                                   (Λεωφ. Ειρήνης 50, Πλατεία Εθνικής Αντίστασης, Άνω Ηλιούπολη,

Τηλ.: 210 9937870, 210 9941199, 210 9914732, 6945405825, E-mail: info@klh.gr

Ιστοσελίδα: www.klh.gr)






LOCATION:
END:VEVENT

END:VCALENDAR
