BEGIN:VCALENDAR
VERSION:2.0
PRODID:-//hacksw/handcal//NONSGML v1.0//EN
BEGIN:VEVENT
UID:55caa6b095d6342fca4774cf64bae652
DTSTAMP:20260420T173831Z

DTSTART:20190717T210000
DTEND:20190717T210000
SUMMARY:Προβολή ταινίας Ο ΚΥΡΙΟΣ ΚΛΑΪΝ
DESCRIPTION:
Η ΚΙΝΗΜΑΤΟΓΡΑΦΙΚΗ ΛΕΣΧΗ ΗΛΙΟΥΠΟΛΗΣ 

ΣΑΣ ΠΡΟΣΚΑΛΕΙ ΣΤΟΝ ΚΥΚΛΟ ΠΡΟΒΟΛΩΝ
ΚΛΑΣΙΚΕΣ ΔΗΜΙΟΥΡΓΙΕΣ ΤΟΥ ΙΤΑΛΙΚΟΥ, ΓΑΛΛΙΚΟΥ ΚΑΙ ΒΡΕΤΑΝΙΚΟΥ ΚΙΝΗΜΑΤΟΓΡΑΦΟΥ – ΛΟΥΚΙΝΟ ΒΙΣΚΟΝΤΙ, ΑΝΙΕΣ ΒΑΡΝΤΑ, ΤΖΟΖΕΦ ΛΟΟΥΖΙ, ΑΛΕΞΑΝΤΕΡ ΜΑΚΕΝΤΡΙΚ



ΤΕΤΑΡΤΗ  17/07/2019        Ο ΚΥΡΙΟΣ ΚΛΑΪΝ (MR. KLEIN)
του Τζόζεφ Λόουζι (ΓΑΛΛΙΑ/ΙΤΑΛΙΑ, 1976, έγχρωμη, 123΄)


Το 1942, οι Ναζί έχουν καταλάβει τη Γαλλία. Ο Ρόμπερτ Κλάιν (Αλέν Ντελόν) είναι ένας έμπορος έργων τέχνης που πλουτίζει αγοράζοντας σε εξευτελιστικές τιμές την περιουσία των διωκόμενων Εβραίων. Χωρίς πολιτική και κοινωνική ευαισθησία, στέκεται αδιάφορος μπροστά σε όσα συμβαίνουν. Όλα όμως αλλάζουν όταν μία εβραϊκή εφημερίδα φτάνει κατά λάθος στο σπίτι του και ο Κλάιν ανακαλύπτει πως υπάρχει ένας ακόμη Ρόμπερτ Κλάιν, που ζει στο Παρίσι και είναι Εβραίος. Οι αρχές δεν μπορούν να εντοπίσουν τον συνονόματό του και οι υποψίες πέφτουν πάνω του. Ένα πολιτικό θρίλερ-καταπέλτης του Τζόζεφ Λόουζι (1909-1984) για τη συνεργασία των γαλλικών αρχών με τους κατακτητές Ναζί.







ΚΑΘΕ ΤΕΤΑΡΤΗ ΣΤΙΣ 9:00 μ.μ. ΚΑΙ ΣΤΙΣ 11:00 μ.μ.
(Από τις 21/08/2019 στις 8:30 μ.μ. και στις 10:30 μ.μ.)
ΣΤΟΝ ΔΗΜΟΤΙΚΟ ΚΙΝΗΜΑΤΟΓΡΑΦΟ ΗΛΙΟΥΠΟΛΗΣ «ΜΕΛΙΝΑ ΜΕΡΚΟΥΡΗ»
                                                   (Λεωφ. Ειρήνης 50, Πλατεία Εθνικής Αντίστασης, Άνω Ηλιούπολη,
Τηλ.: 210 9937870, 210 9941199, 210 9914732, 6945405825, E-mail: info@klh.gr
Ιστοσελίδα: www.klh.gr)

 
LOCATION:
END:VEVENT

END:VCALENDAR
