BEGIN:VCALENDAR
VERSION:2.0
PRODID:-//hacksw/handcal//NONSGML v1.0//EN
BEGIN:VEVENT
UID:f5d951c38bb735bb9523812a03fad8ae
DTSTAMP:20260420T174133Z

DTSTART:20190710T210000
DTEND:20190710T210000
SUMMARY:ΠΡΟΒΟΛΗ ΤΑΙΝΙΑΣ - ΘΑΝΑΤΟΣ ΣΤΗ ΒΕΝΕΤΙΑ 
DESCRIPTION:
Η ΚΙΝΗΜΑΤΟΓΡΑΦΙΚΗ ΛΕΣΧΗ ΗΛΙΟΥΠΟΛΗΣ 

ΣΑΣ ΠΡΟΣΚΑΛΕΙ ΣΤΟΝ ΚΥΚΛΟ ΠΡΟΒΟΛΩΝ
ΚΛΑΣΙΚΕΣ ΔΗΜΙΟΥΡΓΙΕΣ ΤΟΥ ΙΤΑΛΙΚΟΥ, ΓΑΛΛΙΚΟΥ ΚΑΙ ΒΡΕΤΑΝΙΚΟΥ ΚΙΝΗΜΑΤΟΓΡΑΦΟΥ – ΛΟΥΚΙΝΟ ΒΙΣΚΟΝΤΙ, ΑΝΙΕΣ ΒΑΡΝΤΑ, ΤΖΟΖΕΦ ΛΟΟΥΖΙ, ΑΛΕΞΑΝΤΕΡ ΜΑΚΕΝΤΡΙΚ













l ΤΕΤΑΡΤΗ  10/07/2019        ΘΑΝΑΤΟΣ ΣΤΗ ΒΕΝΕΤΙΑ  (MORTE A VENEZIA)
του Λουκίνο Βισκόντι (ΙΤΑΛΙΑ/ΓΑΛΛΙΑ, 1971, έγχρωμη, 132΄)
Αριστουργηματική ταινία του Λουκίνο Βισκόντι (1906-1976) βασισμένη στην ομότιτλη νουβέλα (1912) του Τόμας Μαν (1875-1955). Στις αρχές του 20ού αιώνα, ο συνθέτης Γκούσταβ φον Άσενμπαχ (Ντερκ Μπόγκαρντ), μετά από μια κρίση δημιουργικότητας, φτάνει για ανάπαυση στη Βενετία. Στο ξενοδοχείο στο οποίο καταλύει, την προσοχή του προσελκύει ένας πανέμορφος έφηβος, ο Τάτζιο, για τον οποίο νιώθει αμέσως μεγάλη έλξη, γεγονός που τον μπερδεύει περισσότερο και τον βουλιάζει σε ένα κλίμα παρακμής και πτώσης. Ένα απαγορευμένο και ανολοκλήρωτο πάθος με τραγική κατάληξη.








ΚΑΘΕ ΤΕΤΑΡΤΗ ΣΤΙΣ 9:00 μ.μ. ΚΑΙ ΣΤΙΣ 11:00 μ.μ.
(Από τις 21/08/2019 στις 8:30 μ.μ. και στις 10:30 μ.μ.)
ΣΤΟΝ ΔΗΜΟΤΙΚΟ ΚΙΝΗΜΑΤΟΓΡΑΦΟ ΗΛΙΟΥΠΟΛΗΣ «ΜΕΛΙΝΑ ΜΕΡΚΟΥΡΗ»
                                                   (Λεωφ. Ειρήνης 50, Πλατεία Εθνικής Αντίστασης, Άνω Ηλιούπολη,
Τηλ.: 210 9937870, 210 9941199, 210 9914732, 6945405825, E-mail: info@klh.gr
Ιστοσελίδα: www.klh.gr)


LOCATION:
END:VEVENT

END:VCALENDAR
