BEGIN:VCALENDAR
VERSION:2.0
PRODID:-//hacksw/handcal//NONSGML v1.0//EN
BEGIN:VEVENT
UID:66a99be874ced304105930bbbcc2dfdc
DTSTAMP:20260421T004930Z

DTSTART:20190628T210000
DTEND:20190630T050000
SUMMARY:ΔΙΗΜΕΡΟ  ΗΠΕΙΡΩΤΙΚΟ  ΠΑΡΑΔΟΣΙΑΚΟ  ΠΑΝΗΓΥΡΙ
DESCRIPTION:Δυο ολόκληρες ημέρες θα φέρουμε  στην Ηλιούπολη την Ήπειρο!

28 Ιουνίου   Ναπολέων Δάμος στο κλαρίνο και τραγουδιστές Θωμάς  και Αντώνης Κυρίτσης.

29 Ιουνίου   Γιώργος Κωτσίνης στο κλαρίνο και τραγουδιστές Δημήτρης Τζουμερκιώτης και Λάζαρος Τσαμπάς.


ΣΑΣ ΠΕΡΙΜΕΝΟΥΜΕ!!!
LOCATION:
END:VEVENT

END:VCALENDAR
